BEGIN:VCALENDAR
VERSION:2.0
PRODID:-//The Science and Engineering Magnet - ECPv6.15.20//NONSGML v1.0//EN
CALSCALE:GREGORIAN
METHOD:PUBLISH
X-ORIGINAL-URL:https://www.semagnet.org
X-WR-CALDESC:Events for The Science and Engineering Magnet
REFRESH-INTERVAL;VALUE=DURATION:PT1H
X-Robots-Tag:noindex
X-PUBLISHED-TTL:PT1H
BEGIN:VTIMEZONE
TZID:America/Chicago
BEGIN:DAYLIGHT
TZOFFSETFROM:-0600
TZOFFSETTO:-0500
TZNAME:CDT
DTSTART:20180311T080000
END:DAYLIGHT
BEGIN:STANDARD
TZOFFSETFROM:-0500
TZOFFSETTO:-0600
TZNAME:CST
DTSTART:20181104T070000
END:STANDARD
BEGIN:DAYLIGHT
TZOFFSETFROM:-0600
TZOFFSETTO:-0500
TZNAME:CDT
DTSTART:20190310T080000
END:DAYLIGHT
BEGIN:STANDARD
TZOFFSETFROM:-0500
TZOFFSETTO:-0600
TZNAME:CST
DTSTART:20191103T070000
END:STANDARD
BEGIN:DAYLIGHT
TZOFFSETFROM:-0600
TZOFFSETTO:-0500
TZNAME:CDT
DTSTART:20200308T080000
END:DAYLIGHT
BEGIN:STANDARD
TZOFFSETFROM:-0500
TZOFFSETTO:-0600
TZNAME:CST
DTSTART:20201101T070000
END:STANDARD
BEGIN:DAYLIGHT
TZOFFSETFROM:-0600
TZOFFSETTO:-0500
TZNAME:CDT
DTSTART:20210314T080000
END:DAYLIGHT
BEGIN:STANDARD
TZOFFSETFROM:-0500
TZOFFSETTO:-0600
TZNAME:CST
DTSTART:20211107T070000
END:STANDARD
END:VTIMEZONE
BEGIN:VEVENT
DTSTART;TZID=America/Chicago:20200108T183000
DTEND;TZID=America/Chicago:20200108T193000
DTSTAMP:20260421T174809
CREATED:20190924T030558Z
LAST-MODIFIED:20190924T030558Z
UID:4823-1578508200-1578511800@www.semagnet.org
SUMMARY:SEM PTSA Board Meeting
DESCRIPTION:(Rm 211) Yvonne A. Ewell Townview Center\, 1201 E 8th St\, Dallas\, TX 75203\, USA
URL:https://www.semagnet.org/calendar-item/sem-ptsa-board-meeting-6/
END:VEVENT
BEGIN:VEVENT
DTSTART;VALUE=DATE:20200107
DTEND;VALUE=DATE:20200108
DTSTAMP:20260421T174809
CREATED:20190923T175634Z
LAST-MODIFIED:20190923T175634Z
UID:4724-1578355200-1578441599@www.semagnet.org
SUMMARY:Fourth six weeks begins/Cuarto seis semanas comienza
DESCRIPTION:
URL:https://www.semagnet.org/calendar-item/fourth-six-weeks-begins-cuarto-seis-semanas-comienza/
END:VEVENT
BEGIN:VEVENT
DTSTART;VALUE=DATE:20200106
DTEND;VALUE=DATE:20200107
DTSTAMP:20260421T174809
CREATED:20190923T175633Z
LAST-MODIFIED:20190923T175633Z
UID:4723-1578268800-1578355199@www.semagnet.org
SUMMARY:Student holidays/staff development - Día de capacitación para maestros/Día feriado para estudiantes
DESCRIPTION:
URL:https://www.semagnet.org/calendar-item/student-holidays-staff-development-dia-de-capacitacion-para-maestros-dia-feriado-para-estudiantes-2/
END:VEVENT
BEGIN:VEVENT
DTSTART;VALUE=DATE:20200103
DTEND;VALUE=DATE:20200104
DTSTAMP:20260421T174809
CREATED:20190923T175633Z
LAST-MODIFIED:20190923T175633Z
UID:4722-1578009600-1578095999@www.semagnet.org
SUMMARY:Winter Break/Vacaciones de invierno
DESCRIPTION:
URL:https://www.semagnet.org/calendar-item/winter-break-vacaciones-de-invierno-10/
END:VEVENT
BEGIN:VEVENT
DTSTART;VALUE=DATE:20200102
DTEND;VALUE=DATE:20200103
DTSTAMP:20260421T174809
CREATED:20190923T175632Z
LAST-MODIFIED:20190923T175632Z
UID:4721-1577923200-1578009599@www.semagnet.org
SUMMARY:Winter Break/Vacaciones de invierno
DESCRIPTION:
URL:https://www.semagnet.org/calendar-item/winter-break-vacaciones-de-invierno-9/
END:VEVENT
BEGIN:VEVENT
DTSTART;VALUE=DATE:20200101
DTEND;VALUE=DATE:20200102
DTSTAMP:20260421T174809
CREATED:20190923T175632Z
LAST-MODIFIED:20190923T175632Z
UID:4720-1577836800-1577923199@www.semagnet.org
SUMMARY:Winter Break/Vacaciones de invierno
DESCRIPTION:
URL:https://www.semagnet.org/calendar-item/winter-break-vacaciones-de-invierno-8/
END:VEVENT
BEGIN:VEVENT
DTSTART;VALUE=DATE:20191231
DTEND;VALUE=DATE:20200101
DTSTAMP:20260421T174809
CREATED:20190923T175631Z
LAST-MODIFIED:20190923T175631Z
UID:4719-1577750400-1577836799@www.semagnet.org
SUMMARY:Winter Break/Vacaciones de invierno
DESCRIPTION:
URL:https://www.semagnet.org/calendar-item/winter-break-vacaciones-de-invierno-7/
END:VEVENT
BEGIN:VEVENT
DTSTART;VALUE=DATE:20191230
DTEND;VALUE=DATE:20191231
DTSTAMP:20260421T174809
CREATED:20190923T175631Z
LAST-MODIFIED:20190923T175631Z
UID:4718-1577664000-1577750399@www.semagnet.org
SUMMARY:Winter Break/Vacaciones de invierno
DESCRIPTION:
URL:https://www.semagnet.org/calendar-item/winter-break-vacaciones-de-invierno-6/
END:VEVENT
BEGIN:VEVENT
DTSTART;VALUE=DATE:20191227
DTEND;VALUE=DATE:20191228
DTSTAMP:20260421T174809
CREATED:20190923T175631Z
LAST-MODIFIED:20190923T175631Z
UID:4717-1577404800-1577491199@www.semagnet.org
SUMMARY:Winter Break/Vacaciones de invierno
DESCRIPTION:
URL:https://www.semagnet.org/calendar-item/winter-break-vacaciones-de-invierno-5/
END:VEVENT
BEGIN:VEVENT
DTSTART;VALUE=DATE:20191226
DTEND;VALUE=DATE:20191227
DTSTAMP:20260421T174809
CREATED:20190923T175631Z
LAST-MODIFIED:20190923T175631Z
UID:4716-1577318400-1577404799@www.semagnet.org
SUMMARY:Winter Break/Vacaciones de invierno
DESCRIPTION:
URL:https://www.semagnet.org/calendar-item/winter-break-vacaciones-de-invierno-4/
END:VEVENT
BEGIN:VEVENT
DTSTART;VALUE=DATE:20191225
DTEND;VALUE=DATE:20191226
DTSTAMP:20260421T174809
CREATED:20190923T175630Z
LAST-MODIFIED:20190923T175630Z
UID:4715-1577232000-1577318399@www.semagnet.org
SUMMARY:Winter Break/Vacaciones de invierno
DESCRIPTION:
URL:https://www.semagnet.org/calendar-item/winter-break-vacaciones-de-invierno-3/
END:VEVENT
BEGIN:VEVENT
DTSTART;VALUE=DATE:20191224
DTEND;VALUE=DATE:20191225
DTSTAMP:20260421T174809
CREATED:20190923T175630Z
LAST-MODIFIED:20190923T175630Z
UID:4714-1577145600-1577231999@www.semagnet.org
SUMMARY:Winter Break/Vacaciones de invierno
DESCRIPTION:
URL:https://www.semagnet.org/calendar-item/winter-break-vacaciones-de-invierno-2/
END:VEVENT
BEGIN:VEVENT
DTSTART;VALUE=DATE:20191223
DTEND;VALUE=DATE:20191224
DTSTAMP:20260421T174809
CREATED:20190923T175630Z
LAST-MODIFIED:20190923T175630Z
UID:4713-1577059200-1577145599@www.semagnet.org
SUMMARY:Winter Break/Vacaciones de invierno
DESCRIPTION:
URL:https://www.semagnet.org/calendar-item/winter-break-vacaciones-de-invierno/
END:VEVENT
BEGIN:VEVENT
DTSTART;VALUE=DATE:20191220
DTEND;VALUE=DATE:20191221
DTSTAMP:20260421T174809
CREATED:20190923T175630Z
LAST-MODIFIED:20190923T175630Z
UID:4712-1576800000-1576886399@www.semagnet.org
SUMMARY:Student holidays/staff development - Día de capacitación para maestros/Día feriado para estudiantes
DESCRIPTION:
URL:https://www.semagnet.org/calendar-item/student-holidays-staff-development-dia-de-capacitacion-para-maestros-dia-feriado-para-estudiantes/
END:VEVENT
BEGIN:VEVENT
DTSTART;TZID=America/Chicago:20191219T150000
DTEND;TZID=America/Chicago:20191219T170000
DTSTAMP:20260421T174809
CREATED:20190924T030558Z
LAST-MODIFIED:20190924T030558Z
UID:4822-1576767600-1576774800@www.semagnet.org
SUMMARY:Student Hot Chocolate Bar
DESCRIPTION:Time and details TBD – volunteers/donations needed   Yvonne A. Ewell Townview Center\, 1201 E 8th St\, Dallas\, TX 75203\, USA
URL:https://www.semagnet.org/calendar-item/student-hot-chocolate-bar/
END:VEVENT
BEGIN:VEVENT
DTSTART;TZID=America/Chicago:20191219T100000
DTEND;TZID=America/Chicago:20191219T133000
DTSTAMP:20260421T174809
CREATED:20190924T030558Z
LAST-MODIFIED:20190924T030558Z
UID:4821-1576749600-1576762200@www.semagnet.org
SUMMARY:Teacher/Staff Cookie Bar
DESCRIPTION:Time and details TBD – volunteers/donations needed   (Rm 211) Yvonne A. Ewell Townview Center\, 1201 E 8th St\, Dallas\, TX 75203\, USA
URL:https://www.semagnet.org/calendar-item/teacher-staff-cookie-bar/
END:VEVENT
BEGIN:VEVENT
DTSTART;VALUE=DATE:20191219
DTEND;VALUE=DATE:20191220
DTSTAMP:20260421T174809
CREATED:20190923T175629Z
LAST-MODIFIED:20190923T175629Z
UID:4711-1576713600-1576799999@www.semagnet.org
SUMMARY:Third six weeks ends/Termina la tercera semana
DESCRIPTION:
URL:https://www.semagnet.org/calendar-item/third-six-weeks-ends-termina-la-tercera-semana/
END:VEVENT
BEGIN:VEVENT
DTSTART;TZID=America/Chicago:20191216T154000
DTEND;TZID=America/Chicago:20191216T162000
DTSTAMP:20260421T174809
CREATED:20191210T204755Z
LAST-MODIFIED:20191213T230702Z
UID:5322-1576510800-1576513200@www.semagnet.org
SUMMARY:Pep Rally
DESCRIPTION:Parents are welcome!\nWait for announcement over intercom.\nSpecial guests will be present.
URL:https://www.semagnet.org/calendar-item/pep-rally/
END:VEVENT
BEGIN:VEVENT
DTSTART;VALUE=DATE:20191216
DTEND;VALUE=DATE:20191220
DTSTAMP:20260421T174809
CREATED:20191211T195030Z
LAST-MODIFIED:20191211T195030Z
UID:5351-1576454400-1576799999@www.semagnet.org
SUMMARY:ACP Exams
DESCRIPTION:ACP Exams and Early Release. \nMore info:
URL:https://www.semagnet.org/calendar-item/acp-exams/
END:VEVENT
BEGIN:VEVENT
DTSTART;TZID=America/Chicago:20191214T090000
DTEND;TZID=America/Chicago:20191214T120000
DTSTAMP:20260421T174809
CREATED:20191115T040707Z
LAST-MODIFIED:20191115T040707Z
UID:5199-1576314000-1576324800@www.semagnet.org
SUMMARY:Application Appointments
DESCRIPTION:
URL:https://www.semagnet.org/calendar-item/application-appointments/
END:VEVENT
BEGIN:VEVENT
DTSTART;TZID=America/Chicago:20191213T083000
DTEND;TZID=America/Chicago:20191213T091000
DTSTAMP:20260421T174809
CREATED:20191210T211413Z
LAST-MODIFIED:20191210T211413Z
UID:5336-1576225800-1576228200@www.semagnet.org
SUMMARY:Senior Breakfast
DESCRIPTION:Follow the link for info and to sign up.
URL:https://www.semagnet.org/calendar-item/senior-breakfast/
END:VEVENT
BEGIN:VEVENT
DTSTART;VALUE=DATE:20191213
DTEND;VALUE=DATE:20191214
DTSTAMP:20260421T174809
CREATED:20191211T205506Z
LAST-MODIFIED:20191211T205506Z
UID:5376-1576195200-1576281599@www.semagnet.org
SUMMARY:Senior Quotes DUE
DESCRIPTION:
URL:https://www.semagnet.org/calendar-item/senior-quotes-due/
END:VEVENT
BEGIN:VEVENT
DTSTART;VALUE=DATE:20191213
DTEND;VALUE=DATE:20191214
DTSTAMP:20260421T174809
CREATED:20190923T175629Z
LAST-MODIFIED:20190923T175629Z
UID:4710-1576195200-1576281599@www.semagnet.org
SUMMARY:STAAR Testing dates / Fechas del examen STAAR
DESCRIPTION:
URL:https://www.semagnet.org/calendar-item/staar-testing-dates-fechas-del-examen-staar-5/
END:VEVENT
BEGIN:VEVENT
DTSTART;TZID=America/Chicago:20191212T110000
DTEND;TZID=America/Chicago:20191212T120000
DTSTAMP:20260421T174809
CREATED:20191210T210407Z
LAST-MODIFIED:20191213T182303Z
UID:5334-1576148400-1576152000@www.semagnet.org
SUMMARY:Local Business Corporate Tour - Campus Visit
DESCRIPTION:Local Business Corporate Tour\, campus visit\, 11:00 a.m. to 12:00 p.m.  \nSEM Alumna Kynnedy Brown\, TCU\, visits for input on research project.
URL:https://www.semagnet.org/calendar-item/goldman-sachs-and-texas-instruments-ti-campus-visit/
END:VEVENT
BEGIN:VEVENT
DTSTART;VALUE=DATE:20191212
DTEND;VALUE=DATE:20191213
DTSTAMP:20260421T174809
CREATED:20190923T175629Z
LAST-MODIFIED:20190923T175629Z
UID:4709-1576108800-1576195199@www.semagnet.org
SUMMARY:STAAR Testing dates / Fechas del examen STAAR
DESCRIPTION:
URL:https://www.semagnet.org/calendar-item/staar-testing-dates-fechas-del-examen-staar-4/
END:VEVENT
BEGIN:VEVENT
DTSTART;VALUE=DATE:20191211
DTEND;VALUE=DATE:20191212
DTSTAMP:20260421T174809
CREATED:20191211T205435Z
LAST-MODIFIED:20191211T205435Z
UID:5374-1576022400-1576108799@www.semagnet.org
SUMMARY:Pay Senior Fees
DESCRIPTION:Where? SEM Office Suite 216\nWhen? 8AM – 9 AM or 4:30 PM – 5 PM
URL:https://www.semagnet.org/calendar-item/pay-senior-fees/
END:VEVENT
BEGIN:VEVENT
DTSTART;VALUE=DATE:20191211
DTEND;VALUE=DATE:20191212
DTSTAMP:20260421T174809
CREATED:20191210T210215Z
LAST-MODIFIED:20191210T210215Z
UID:5332-1576022400-1576108799@www.semagnet.org
SUMMARY:SEM Junior Class Game Night
DESCRIPTION:SEM Junior Class Game Night in SEM Commons. \nSee Ms. Nelson for details.
URL:https://www.semagnet.org/calendar-item/sem-junior-class-game-night/
END:VEVENT
BEGIN:VEVENT
DTSTART;VALUE=DATE:20191211
DTEND;VALUE=DATE:20191212
DTSTAMP:20260421T174809
CREATED:20190923T175629Z
LAST-MODIFIED:20190923T175629Z
UID:4708-1576022400-1576108799@www.semagnet.org
SUMMARY:STAAR Testing dates / Fechas del examen STAAR
DESCRIPTION:
URL:https://www.semagnet.org/calendar-item/staar-testing-dates-fechas-del-examen-staar-3/
END:VEVENT
BEGIN:VEVENT
DTSTART;VALUE=DATE:20191210
DTEND;VALUE=DATE:20191211
DTSTAMP:20260421T174809
CREATED:20190923T175629Z
LAST-MODIFIED:20190923T175629Z
UID:4707-1575936000-1576022399@www.semagnet.org
SUMMARY:STAAR Testing dates / Fechas del examen STAAR
DESCRIPTION:
URL:https://www.semagnet.org/calendar-item/staar-testing-dates-fechas-del-examen-staar-2/
END:VEVENT
BEGIN:VEVENT
DTSTART;TZID=America/Chicago:20191209T080000
DTEND;TZID=America/Chicago:20191209T090000
DTSTAMP:20260421T174809
CREATED:20191210T205703Z
LAST-MODIFIED:20191210T205703Z
UID:5324-1575878400-1575882000@www.semagnet.org
SUMMARY:SBDM Committee Ranking Decision
DESCRIPTION:Monday\, December 9\, 2019\, room 211\, 8:00 a.m. – this is not a mandatory meeting.
URL:https://www.semagnet.org/calendar-item/sbdm-committee-ranking-decision/
END:VEVENT
END:VCALENDAR