BEGIN:VCALENDAR
VERSION:2.0
PRODID:-//The Science and Engineering Magnet - ECPv6.15.20//NONSGML v1.0//EN
CALSCALE:GREGORIAN
METHOD:PUBLISH
X-ORIGINAL-URL:https://www.semagnet.org
X-WR-CALDESC:Events for The Science and Engineering Magnet
REFRESH-INTERVAL;VALUE=DURATION:PT1H
X-Robots-Tag:noindex
X-PUBLISHED-TTL:PT1H
BEGIN:VTIMEZONE
TZID:America/Chicago
BEGIN:DAYLIGHT
TZOFFSETFROM:-0600
TZOFFSETTO:-0500
TZNAME:CDT
DTSTART:20190310T080000
END:DAYLIGHT
BEGIN:STANDARD
TZOFFSETFROM:-0500
TZOFFSETTO:-0600
TZNAME:CST
DTSTART:20191103T070000
END:STANDARD
BEGIN:DAYLIGHT
TZOFFSETFROM:-0600
TZOFFSETTO:-0500
TZNAME:CDT
DTSTART:20200308T080000
END:DAYLIGHT
BEGIN:STANDARD
TZOFFSETFROM:-0500
TZOFFSETTO:-0600
TZNAME:CST
DTSTART:20201101T070000
END:STANDARD
BEGIN:DAYLIGHT
TZOFFSETFROM:-0600
TZOFFSETTO:-0500
TZNAME:CDT
DTSTART:20210314T080000
END:DAYLIGHT
BEGIN:STANDARD
TZOFFSETFROM:-0500
TZOFFSETTO:-0600
TZNAME:CST
DTSTART:20211107T070000
END:STANDARD
END:VTIMEZONE
BEGIN:VEVENT
DTSTART;VALUE=DATE:20200401
DTEND;VALUE=DATE:20200402
DTSTAMP:20260421T111227
CREATED:20191211T200831Z
LAST-MODIFIED:20200313T212545Z
UID:5363-1585699200-1585785599@www.semagnet.org
SUMMARY:12th Grade Parent Mandatory Meeting
DESCRIPTION:12th grade parent mandatory spring meeting
URL:https://www.semagnet.org/calendar-item/12th-grade-parent-mandatory-spring-meeting/
END:VEVENT
BEGIN:VEVENT
DTSTART;VALUE=DATE:20200330
DTEND;VALUE=DATE:20200401
DTSTAMP:20260421T111227
CREATED:20200313T212114Z
LAST-MODIFIED:20200313T212114Z
UID:5618-1585526400-1585699199@www.semagnet.org
SUMMARY:Student Council and SEM Clubs
DESCRIPTION:Student Council & all SEM clubs Election Days
URL:https://www.semagnet.org/calendar-item/student-council-and-sem-clubs/
END:VEVENT
BEGIN:VEVENT
DTSTART;TZID=America/Chicago:20200325T180000
DTEND;TZID=America/Chicago:20200325T193000
DTSTAMP:20260421T111227
CREATED:20200313T211957Z
LAST-MODIFIED:20200313T211957Z
UID:5616-1585159200-1585164600@www.semagnet.org
SUMMARY:11th Grade Parent Meeting
DESCRIPTION:11th grade spring parent meeting 6:00 pm to 7:30 pm \nVoting on graduation venue last 30 minutes of meeting.
URL:https://www.semagnet.org/calendar-item/11th-grade-parent-meeting-2/
END:VEVENT
BEGIN:VEVENT
DTSTART;VALUE=DATE:20200323
DTEND;VALUE=DATE:20200325
DTSTAMP:20260421T111227
CREATED:20200313T211520Z
LAST-MODIFIED:20200313T211759Z
UID:5614-1584921600-1585094399@www.semagnet.org
SUMMARY:Student Course Selection
DESCRIPTION:Student course selection for 2020-2021 for grade 11.. Ms. Hall\, school counselor\, will visit Mr. Timmon’s classes.
URL:https://www.semagnet.org/calendar-item/student-course-selection-2/
END:VEVENT
BEGIN:VEVENT
DTSTART;VALUE=DATE:20200320
DTEND;VALUE=DATE:20200321
DTSTAMP:20260421T111227
CREATED:20190923T175637Z
LAST-MODIFIED:20190923T175637Z
UID:4736-1584662400-1584748799@www.semagnet.org
SUMMARY:Spring Break/Vacaciones de primavera
DESCRIPTION:
URL:https://www.semagnet.org/calendar-item/spring-break-vacaciones-de-primavera-5/
END:VEVENT
BEGIN:VEVENT
DTSTART;VALUE=DATE:20200319
DTEND;VALUE=DATE:20200320
DTSTAMP:20260421T111227
CREATED:20190923T175636Z
LAST-MODIFIED:20190923T175636Z
UID:4735-1584576000-1584662399@www.semagnet.org
SUMMARY:Spring Break/Vacaciones de primavera
DESCRIPTION:
URL:https://www.semagnet.org/calendar-item/spring-break-vacaciones-de-primavera-4/
END:VEVENT
BEGIN:VEVENT
DTSTART;VALUE=DATE:20200318
DTEND;VALUE=DATE:20200319
DTSTAMP:20260421T111227
CREATED:20190923T175636Z
LAST-MODIFIED:20190923T175636Z
UID:4734-1584489600-1584575999@www.semagnet.org
SUMMARY:Spring Break/Vacaciones de primavera
DESCRIPTION:
URL:https://www.semagnet.org/calendar-item/spring-break-vacaciones-de-primavera-3/
END:VEVENT
BEGIN:VEVENT
DTSTART;VALUE=DATE:20200317
DTEND;VALUE=DATE:20200318
DTSTAMP:20260421T111227
CREATED:20190923T175636Z
LAST-MODIFIED:20190923T175636Z
UID:4733-1584403200-1584489599@www.semagnet.org
SUMMARY:Spring Break/Vacaciones de primavera
DESCRIPTION:
URL:https://www.semagnet.org/calendar-item/spring-break-vacaciones-de-primavera-2/
END:VEVENT
BEGIN:VEVENT
DTSTART;VALUE=DATE:20200316
DTEND;VALUE=DATE:20200317
DTSTAMP:20260421T111227
CREATED:20190923T175636Z
LAST-MODIFIED:20190923T175636Z
UID:4732-1584316800-1584403199@www.semagnet.org
SUMMARY:Spring Break/Vacaciones de primavera
DESCRIPTION:
URL:https://www.semagnet.org/calendar-item/spring-break-vacaciones-de-primavera/
END:VEVENT
BEGIN:VEVENT
DTSTART;TZID=America/Chicago:20200313T080000
DTEND;TZID=America/Chicago:20200313T170000
DTSTAMP:20260421T111227
CREATED:20200313T233551Z
LAST-MODIFIED:20200313T233642Z
UID:5681-1584086400-1584118800@www.semagnet.org
SUMMARY:Last Day of School
DESCRIPTION:Last day of school for students
URL:https://www.semagnet.org/calendar-item/last-day-of-school/
END:VEVENT
BEGIN:VEVENT
DTSTART;VALUE=DATE:20200313
DTEND;VALUE=DATE:20200314
DTSTAMP:20260421T111227
CREATED:20200313T210727Z
LAST-MODIFIED:20200313T210807Z
UID:5608-1584057600-1584143999@www.semagnet.org
SUMMARY:LAST Day to Purchase Yearbook
DESCRIPTION:LAST day to purchase year book TODAY see link or pay Ms. Tangman morning/afternoon in room 134b.
URL:https://www.semagnet.org/calendar-item/last-day-to-purchase-yearbook/
END:VEVENT
BEGIN:VEVENT
DTSTART;VALUE=DATE:20200311
DTEND;VALUE=DATE:20200313
DTSTAMP:20260421T111227
CREATED:20200313T210604Z
LAST-MODIFIED:20200313T210643Z
UID:5605-1583884800-1584057599@www.semagnet.org
SUMMARY:Student Course Selection
DESCRIPTION:Student course selection for 2020-2021 for grades 9-10. \nMs. Hall\, school counselor\, will visit Mr. Florczak & Mr. Tompkin’s classes.
URL:https://www.semagnet.org/calendar-item/student-course-selection/
END:VEVENT
BEGIN:VEVENT
DTSTART;TZID=America/Chicago:20200304T183000
DTEND;TZID=America/Chicago:20200304T193000
DTSTAMP:20260421T111227
CREATED:20190924T030600Z
LAST-MODIFIED:20190924T030600Z
UID:4832-1583346600-1583350200@www.semagnet.org
SUMMARY:SEM PTSA Board Meeting
DESCRIPTION:(Rm 211) Yvonne A. Ewell Townview Center\, 1201 E 8th St\, Dallas\, TX 75203\, USA
URL:https://www.semagnet.org/calendar-item/sem-ptsa-board-meeting-8/
END:VEVENT
BEGIN:VEVENT
DTSTART;TZID=America/Chicago:20200304T093000
DTEND;TZID=America/Chicago:20200304T103000
DTSTAMP:20260421T111227
CREATED:20190924T030600Z
LAST-MODIFIED:20190924T030600Z
UID:4831-1583314200-1583317800@www.semagnet.org
SUMMARY:SAT Testing for Juniors
DESCRIPTION:We’ll need snacks & volunteers – times and details TBD   Yvonne A. Ewell Townview Center\, 1201 E 8th St\, Dallas\, TX 75203\, USA
URL:https://www.semagnet.org/calendar-item/sat-testing-for-juniors/
END:VEVENT
BEGIN:VEVENT
DTSTART;VALUE=DATE:20200304
DTEND;VALUE=DATE:20200305
DTSTAMP:20260421T111227
CREATED:20190923T175635Z
LAST-MODIFIED:20190923T175635Z
UID:4731-1583280000-1583366399@www.semagnet.org
SUMMARY:Report cards issued/Distribución de boletas de calificaciones
DESCRIPTION:
URL:https://www.semagnet.org/calendar-item/report-cards-issued-distribucion-de-boletas-de-calificaciones-2/
END:VEVENT
BEGIN:VEVENT
DTSTART;VALUE=DATE:20200302
DTEND;VALUE=DATE:20200303
DTSTAMP:20260421T111227
CREATED:20191115T043055Z
LAST-MODIFIED:20191115T043055Z
UID:5210-1583107200-1583193599@www.semagnet.org
SUMMARY:First Choice Notification Letters
DESCRIPTION:
URL:https://www.semagnet.org/calendar-item/first-choice-notification-letters/
END:VEVENT
BEGIN:VEVENT
DTSTART;TZID=America/Chicago:20200225T120000
DTEND;TZID=America/Chicago:20200225T140000
DTSTAMP:20260421T111227
CREATED:20200218T174634Z
LAST-MODIFIED:20200218T174930Z
UID:5589-1582632000-1582639200@www.semagnet.org
SUMMARY:Straight Talk at the Capitol: A Matter of Life and Breath
DESCRIPTION:When: Tuesday\, February 25\nWebinar beginning at 12:00 pm \nWhere:  Yvonne A. Ewell Townview Center\n1201 E 8th St.\, Dallas\, TX 75203
URL:https://www.semagnet.org/calendar-item/straight-talk-at-the-capitol-a-matter-of-life-and-breath/
END:VEVENT
BEGIN:VEVENT
DTSTART;TZID=America/Chicago:20200225T080000
DTEND;TZID=America/Chicago:20200225T091500
DTSTAMP:20260421T111227
CREATED:20190924T030559Z
LAST-MODIFIED:20190924T031758Z
UID:4830-1582617600-1582622100@www.semagnet.org
SUMMARY:Morning Mixer (Spanish)
DESCRIPTION:Volunteers/donations needed   (Rm 211) Yvonne A. Ewell Townview Center\, 1201 E 8th St\, Dallas\, TX 75203\, USA
URL:https://www.semagnet.org/calendar-item/morning-mixer-spanish-2/
END:VEVENT
BEGIN:VEVENT
DTSTART;VALUE=DATE:20200224
DTEND;VALUE=DATE:20200225
DTSTAMP:20260421T111227
CREATED:20190923T175635Z
LAST-MODIFIED:20190923T175635Z
UID:4730-1582502400-1582588799@www.semagnet.org
SUMMARY:Fifth six weeks begins/Quintas seis semanas comienza
DESCRIPTION:
URL:https://www.semagnet.org/calendar-item/fifth-six-weeks-begins-quintas-seis-semanas-comienza/
END:VEVENT
BEGIN:VEVENT
DTSTART;VALUE=DATE:20200221
DTEND;VALUE=DATE:20200222
DTSTAMP:20260421T111227
CREATED:20190923T175635Z
LAST-MODIFIED:20190923T175635Z
UID:4729-1582243200-1582329599@www.semagnet.org
SUMMARY:Fourth six weeks ends/Cuarto seis semanas termina
DESCRIPTION:
URL:https://www.semagnet.org/calendar-item/fourth-six-weeks-ends-cuarto-seis-semanas-termina/
END:VEVENT
BEGIN:VEVENT
DTSTART;TZID=America/Chicago:20200219T183000
DTEND;TZID=America/Chicago:20200219T200000
DTSTAMP:20260421T111227
CREATED:20200127T224720Z
LAST-MODIFIED:20200212T041425Z
UID:5505-1582137000-1582142400@www.semagnet.org
SUMMARY:ANGST Movie for ALL SEM
DESCRIPTION:ANGST movie for ALL SEM 6:30 p.m. – 8:00\, Townview Theater\n\nHello all\, we are planning to show the movie “Angst” in English and Spanish followed by a Q&A session for SEM – students\, parents\, and staff.
URL:https://www.semagnet.org/calendar-item/angst-movie-for-all-sem/
END:VEVENT
BEGIN:VEVENT
DTSTART;TZID=America/Chicago:20200218T080000
DTEND;TZID=America/Chicago:20200218T091500
DTSTAMP:20260421T111227
CREATED:20190924T030559Z
LAST-MODIFIED:20190924T031904Z
UID:4829-1582012800-1582017300@www.semagnet.org
SUMMARY:Morning Mixer
DESCRIPTION:For more information or to volunteer\, please visit: https://www.signupgenius.com/go/70A0849A9A72AA4FD0-february   (Library) Yvonne A. Ewell Townview Center\, 1201 E 8th St\, Dallas\, TX 75203\, USA
URL:https://www.semagnet.org/calendar-item/morning-mixer-6/
END:VEVENT
BEGIN:VEVENT
DTSTART;VALUE=DATE:20200217
DTEND;VALUE=DATE:20200218
DTSTAMP:20260421T111227
CREATED:20190923T175635Z
LAST-MODIFIED:20190923T175635Z
UID:4728-1581897600-1581983999@www.semagnet.org
SUMMARY:Presidents' Day Holiday
DESCRIPTION:
URL:https://www.semagnet.org/calendar-item/presidents-day-holiday/
END:VEVENT
BEGIN:VEVENT
DTSTART;VALUE=DATE:20200214
DTEND;VALUE=DATE:20200215
DTSTAMP:20260421T111227
CREATED:20190923T175635Z
LAST-MODIFIED:20190923T175635Z
UID:4727-1581638400-1581724799@www.semagnet.org
SUMMARY:Student holidays/staff development - Día de capacitación para maestros/Día feriado para estudiantes
DESCRIPTION:
URL:https://www.semagnet.org/calendar-item/student-holidays-staff-development-dia-de-capacitacion-para-maestros-dia-feriado-para-estudiantes-3/
END:VEVENT
BEGIN:VEVENT
DTSTART;TZID=America/Chicago:20200213T100000
DTEND;TZID=America/Chicago:20200213T130000
DTSTAMP:20260421T111227
CREATED:20190924T030559Z
LAST-MODIFIED:20190924T030559Z
UID:4828-1581588000-1581598800@www.semagnet.org
SUMMARY:Valentine's Stick Sales
DESCRIPTION:Time and details TBD – volunteers needed   Yvonne A. Ewell Townview Center\, 1201 E 8th St\, Dallas\, TX 75203\, USA
URL:https://www.semagnet.org/calendar-item/valentines-stick-sales/
END:VEVENT
BEGIN:VEVENT
DTSTART;TZID=America/Chicago:20200213T073000
DTEND;TZID=America/Chicago:20200213T100000
DTSTAMP:20260421T111227
CREATED:20190924T030559Z
LAST-MODIFIED:20190924T030559Z
UID:4827-1581579000-1581588000@www.semagnet.org
SUMMARY:Valentine's Breakfast for Teachers
DESCRIPTION:Volunteers and food donations needed   (Rm 211) Yvonne A. Ewell Townview Center\, 1201 E 8th St\, Dallas\, TX 75203\, USA
URL:https://www.semagnet.org/calendar-item/valentines-breakfast-for-teachers/
END:VEVENT
BEGIN:VEVENT
DTSTART;TZID=America/Chicago:20200212T183000
DTEND;TZID=America/Chicago:20200212T193000
DTSTAMP:20260421T111227
CREATED:20190924T030559Z
LAST-MODIFIED:20190924T030559Z
UID:4826-1581532200-1581535800@www.semagnet.org
SUMMARY:SEM PTSA Board Meeting
DESCRIPTION:(Rm 211) Yvonne A. Ewell Townview Center\, 1201 E 8th St\, Dallas\, TX 75203\, USA
URL:https://www.semagnet.org/calendar-item/sem-ptsa-board-meeting-7/
END:VEVENT
BEGIN:VEVENT
DTSTART;VALUE=DATE:20200208
DTEND;VALUE=DATE:20200209
DTSTAMP:20260421T111227
CREATED:20191213T231017Z
LAST-MODIFIED:20191213T231953Z
UID:5402-1581120000-1581206399@www.semagnet.org
SUMMARY:DISD - AP Prep Session
DESCRIPTION:
URL:https://www.semagnet.org/calendar-item/disd-ap-prep-session-2/
END:VEVENT
BEGIN:VEVENT
DTSTART;TZID=America/Chicago:20200205T180000
DTEND;TZID=America/Chicago:20200205T193000
DTSTAMP:20260421T111227
CREATED:20191211T200807Z
LAST-MODIFIED:20200205T195729Z
UID:5361-1580925600-1580931000@www.semagnet.org
SUMMARY:11th grade parent mandatory spring meeting & voting on graduation venue **CANCELLED**
DESCRIPTION:Due to weather conditions: Today’s evening Spring Parent Conference has been postponed. \nNew date/time TBD.
URL:https://www.semagnet.org/calendar-item/11th-grade-parent-mandatory-spring-meeting-voting-on-graduation-venue/
END:VEVENT
BEGIN:VEVENT
DTSTART;VALUE=DATE:20200201
DTEND;VALUE=DATE:20200301
DTSTAMP:20260421T111227
CREATED:20200202T193916Z
LAST-MODIFIED:20200202T193916Z
UID:5529-1580515200-1583020799@www.semagnet.org
SUMMARY:SEM February Fundraiser
DESCRIPTION:Show your Love for SEM this month by supporting our annual Check Writing Campaign which runs during the month of February! Your donation will be used for student supplies and materials. You can donate any amount. Click on the link to begin.
URL:https://www.semagnet.org/calendar-item/sem-february-fundraiser/
END:VEVENT
END:VCALENDAR