BEGIN:VCALENDAR
VERSION:2.0
PRODID:-//The Science and Engineering Magnet - ECPv6.15.20//NONSGML v1.0//EN
CALSCALE:GREGORIAN
METHOD:PUBLISH
X-WR-CALNAME:The Science and Engineering Magnet
X-ORIGINAL-URL:https://www.semagnet.org
X-WR-CALDESC:Events for The Science and Engineering Magnet
REFRESH-INTERVAL;VALUE=DURATION:PT1H
X-Robots-Tag:noindex
X-PUBLISHED-TTL:PT1H
BEGIN:VTIMEZONE
TZID:America/Chicago
BEGIN:DAYLIGHT
TZOFFSETFROM:-0600
TZOFFSETTO:-0500
TZNAME:CDT
DTSTART:20170312T080000
END:DAYLIGHT
BEGIN:STANDARD
TZOFFSETFROM:-0500
TZOFFSETTO:-0600
TZNAME:CST
DTSTART:20171105T070000
END:STANDARD
BEGIN:DAYLIGHT
TZOFFSETFROM:-0600
TZOFFSETTO:-0500
TZNAME:CDT
DTSTART:20180311T080000
END:DAYLIGHT
BEGIN:STANDARD
TZOFFSETFROM:-0500
TZOFFSETTO:-0600
TZNAME:CST
DTSTART:20181104T070000
END:STANDARD
BEGIN:DAYLIGHT
TZOFFSETFROM:-0600
TZOFFSETTO:-0500
TZNAME:CDT
DTSTART:20190310T080000
END:DAYLIGHT
BEGIN:STANDARD
TZOFFSETFROM:-0500
TZOFFSETTO:-0600
TZNAME:CST
DTSTART:20191103T070000
END:STANDARD
END:VTIMEZONE
BEGIN:VEVENT
DTSTART;TZID=America/Chicago:20180814T090000
DTEND;TZID=America/Chicago:20180814T100000
DTSTAMP:20260422T184816
CREATED:20180918T215806Z
LAST-MODIFIED:20180918T215806Z
UID:2874-1534237200-1534240800@www.semagnet.org
SUMMARY:New Parent Meeting
DESCRIPTION:This meeting will cover items such as buses\, tutoring\, PowerSchool\, etc. There are two options\, both on 8/14/18\, option 1 is 9-10am\,and option 2 is 3:30-4:30pm
URL:https://www.semagnet.org/calendar-item/new-parent-meeting-2/
END:VEVENT
BEGIN:VEVENT
DTSTART;VALUE=DATE:20180814
DTEND;VALUE=DATE:20180815
DTSTAMP:20260422T184816
CREATED:20180918T215827Z
LAST-MODIFIED:20180918T215827Z
UID:2923-1534204800-1534291199@www.semagnet.org
SUMMARY:Townview Open House
DESCRIPTION:
URL:https://www.semagnet.org/calendar-item/townview-open-house/
END:VEVENT
BEGIN:VEVENT
DTSTART;TZID=America/Chicago:20180810T083000
DTEND;TZID=America/Chicago:20180810T160000
DTSTAMP:20260422T184816
CREATED:20180918T215822Z
LAST-MODIFIED:20180918T215822Z
UID:2914-1533889800-1533916800@www.semagnet.org
SUMMARY:Staff Development
DESCRIPTION:
URL:https://www.semagnet.org/calendar-item/staff-development/
END:VEVENT
BEGIN:VEVENT
DTSTART;TZID=America/Chicago:20180809T073000
DTEND;TZID=America/Chicago:20180809T093000
DTSTAMP:20260422T184816
CREATED:20180918T215821Z
LAST-MODIFIED:20180918T215821Z
UID:2910-1533799800-1533807000@www.semagnet.org
SUMMARY:SEM PTSA Staff Breakfast
DESCRIPTION:We are asking for donations and volunteers for our PTSA Back toSchool Teacher Breakfast.&nbsp;Please sign up using this link:“
URL:https://www.semagnet.org/calendar-item/sem-ptsa-staff-breakfast/
END:VEVENT
BEGIN:VEVENT
DTSTART;TZID=America/Chicago:20180730T070000
DTEND;TZID=America/Chicago:20180803T150000
DTSTAMP:20260422T184816
CREATED:20180918T215806Z
LAST-MODIFIED:20180918T215806Z
UID:2872-1532934000-1533308400@www.semagnet.org
SUMMARY:Nest Camp/ Physics Camp/ Senior Week/ PTA Membership drive
DESCRIPTION:
URL:https://www.semagnet.org/calendar-item/nest-camp-physics-camp-senior-week-pta-membership-drive/
END:VEVENT
BEGIN:VEVENT
DTSTART;VALUE=DATE:20180729
DTEND;VALUE=DATE:20180730
DTSTAMP:20260422T184816
CREATED:20180918T215751Z
LAST-MODIFIED:20180918T215751Z
UID:2826-1532822400-1532908799@www.semagnet.org
SUMMARY:2018-2019 Membership Drive Begins
DESCRIPTION:
URL:https://www.semagnet.org/calendar-item/2018-2019-membership-drive-begins/
END:VEVENT
BEGIN:VEVENT
DTSTART;TZID=America/Chicago:20180725T080000
DTEND;TZID=America/Chicago:20180725T100000
DTSTAMP:20260422T184816
CREATED:20180918T215803Z
LAST-MODIFIED:20180918T215803Z
UID:2863-1532505600-1532512800@www.semagnet.org
SUMMARY:Inventory for PTSA
DESCRIPTION:
URL:https://www.semagnet.org/calendar-item/inventory-for-ptsa/
END:VEVENT
BEGIN:VEVENT
DTSTART;VALUE=DATE:20180709
DTEND;VALUE=DATE:20180710
DTSTAMP:20260422T184816
CREATED:20180918T215758Z
LAST-MODIFIED:20180918T215758Z
UID:2847-1531094400-1531180799@www.semagnet.org
SUMMARY:E BLast Sign - up for Back to School
DESCRIPTION:
URL:https://www.semagnet.org/calendar-item/e-blast-sign-up-for-back-to-school/
END:VEVENT
BEGIN:VEVENT
DTSTART;TZID=America/Chicago:20180426T183000
DTEND;TZID=America/Chicago:20180426T200000
DTSTAMP:20260422T184816
CREATED:20180918T215803Z
LAST-MODIFIED:20180918T215803Z
UID:2862-1524767400-1524772800@www.semagnet.org
SUMMARY:Incoming 9th Grade Welcome
DESCRIPTION:Townview Magnet School\, 1201 E 8th St\, Dallas\, TX 75203\, USA
URL:https://www.semagnet.org/calendar-item/incoming-9th-grade-welcome/
END:VEVENT
END:VCALENDAR