BEGIN:VCALENDAR
VERSION:2.0
PRODID:-//The Science and Engineering Magnet - ECPv6.15.20//NONSGML v1.0//EN
CALSCALE:GREGORIAN
METHOD:PUBLISH
X-ORIGINAL-URL:https://www.semagnet.org
X-WR-CALDESC:Events for The Science and Engineering Magnet
REFRESH-INTERVAL;VALUE=DURATION:PT1H
X-Robots-Tag:noindex
X-PUBLISHED-TTL:PT1H
BEGIN:VTIMEZONE
TZID:America/Chicago
BEGIN:DAYLIGHT
TZOFFSETFROM:-0600
TZOFFSETTO:-0500
TZNAME:CDT
DTSTART:20170312T080000
END:DAYLIGHT
BEGIN:STANDARD
TZOFFSETFROM:-0500
TZOFFSETTO:-0600
TZNAME:CST
DTSTART:20171105T070000
END:STANDARD
BEGIN:DAYLIGHT
TZOFFSETFROM:-0600
TZOFFSETTO:-0500
TZNAME:CDT
DTSTART:20180311T080000
END:DAYLIGHT
BEGIN:STANDARD
TZOFFSETFROM:-0500
TZOFFSETTO:-0600
TZNAME:CST
DTSTART:20181104T070000
END:STANDARD
BEGIN:DAYLIGHT
TZOFFSETFROM:-0600
TZOFFSETTO:-0500
TZNAME:CDT
DTSTART:20190310T080000
END:DAYLIGHT
BEGIN:STANDARD
TZOFFSETFROM:-0500
TZOFFSETTO:-0600
TZNAME:CST
DTSTART:20191103T070000
END:STANDARD
END:VTIMEZONE
BEGIN:VEVENT
DTSTART;VALUE=DATE:20180914
DTEND;VALUE=DATE:20180915
DTSTAMP:20260422T171824
CREATED:20180918T215810Z
LAST-MODIFIED:20180918T215810Z
UID:2884-1536883200-1536969599@www.semagnet.org
SUMMARY:Picture Day 9th-11th Grades + Faculty and Staff
DESCRIPTION:Hallway in front of room 134
URL:https://www.semagnet.org/calendar-item/picture-day-9th-11th-grades-faculty-and-staff-2/
END:VEVENT
BEGIN:VEVENT
DTSTART;VALUE=DATE:20180913
DTEND;VALUE=DATE:20180914
DTSTAMP:20260422T171824
CREATED:20180918T215810Z
LAST-MODIFIED:20180918T215810Z
UID:2883-1536796800-1536883199@www.semagnet.org
SUMMARY:Picture Day 9th-11th Grades + Faculty and Staff
DESCRIPTION:Hallway in front of room 134
URL:https://www.semagnet.org/calendar-item/picture-day-9th-11th-grades-faculty-and-staff/
END:VEVENT
BEGIN:VEVENT
DTSTART;TZID=America/Chicago:20180912T183000
DTEND;TZID=America/Chicago:20180912T203000
DTSTAMP:20260422T171824
CREATED:20180918T215748Z
LAST-MODIFIED:20180918T215748Z
UID:2820-1536777000-1536784200@www.semagnet.org
SUMMARY:11th Grade Parent Meeting
DESCRIPTION:Theater
URL:https://www.semagnet.org/calendar-item/11th-grade-parent-meeting/
END:VEVENT
BEGIN:VEVENT
DTSTART;VALUE=DATE:20180912
DTEND;VALUE=DATE:20180913
DTSTAMP:20260422T171824
CREATED:20180918T215802Z
LAST-MODIFIED:20180918T215802Z
UID:2858-1536710400-1536796799@www.semagnet.org
SUMMARY:Freshmen Club Fair
DESCRIPTION:After school – 3rd floor
URL:https://www.semagnet.org/calendar-item/freshmen-club-fair/
END:VEVENT
BEGIN:VEVENT
DTSTART;TZID=America/Chicago:20180911T080000
DTEND;TZID=America/Chicago:20180911T090000
DTSTAMP:20260422T171824
CREATED:20180918T215816Z
LAST-MODIFIED:20180918T215816Z
UID:2896-1536652800-1536656400@www.semagnet.org
SUMMARY:PTSA Morning Mixer
DESCRIPTION:Library
URL:https://www.semagnet.org/calendar-item/ptsa-morning-mixer/
END:VEVENT
BEGIN:VEVENT
DTSTART;VALUE=DATE:20180907
DTEND;VALUE=DATE:20180908
DTSTAMP:20260422T171824
CREATED:20180918T215748Z
LAST-MODIFIED:20180918T215748Z
UID:2819-1536278400-1536364799@www.semagnet.org
SUMMARY:11th and 12th Grade Student Code of Conduct Meeting
DESCRIPTION:Commons
URL:https://www.semagnet.org/calendar-item/11th-and-12th-grade-student-code-of-conduct-meeting/
END:VEVENT
BEGIN:VEVENT
DTSTART;VALUE=DATE:20180906
DTEND;VALUE=DATE:20180907
DTSTAMP:20260422T171824
CREATED:20180918T215753Z
LAST-MODIFIED:20180918T215753Z
UID:2830-1536192000-1536278399@www.semagnet.org
SUMMARY:9th and 10th Grade Student Code of Conduct Meeting
DESCRIPTION:Commons
URL:https://www.semagnet.org/calendar-item/9th-and-10th-grade-student-code-of-conduct-meeting/
END:VEVENT
BEGIN:VEVENT
DTSTART;TZID=America/Chicago:20180905T183000
DTEND;TZID=America/Chicago:20180905T203000
DTSTAMP:20260422T171824
CREATED:20180918T215754Z
LAST-MODIFIED:20180918T215754Z
UID:2832-1536172200-1536179400@www.semagnet.org
SUMMARY:9th Grade Parent Meeting
DESCRIPTION:Theater
URL:https://www.semagnet.org/calendar-item/9th-grade-parent-meeting/
END:VEVENT
BEGIN:VEVENT
DTSTART;VALUE=DATE:20180903
DTEND;VALUE=DATE:20180904
DTSTAMP:20260422T171824
CREATED:20180918T215806Z
LAST-MODIFIED:20181016T003141Z
UID:2875-1535932800-1536019199@www.semagnet.org
SUMMARY:Labor Day - Student Holiday
DESCRIPTION:
URL:https://www.semagnet.org/calendar-item/no-school-labor-day/
END:VEVENT
BEGIN:VEVENT
DTSTART;TZID=America/Chicago:20180830T180000
DTEND;TZID=America/Chicago:20180830T210000
DTSTAMP:20260422T171824
CREATED:20180918T215751Z
LAST-MODIFIED:20180918T215751Z
UID:2824-1535652000-1535662800@www.semagnet.org
SUMMARY:12th Grade Parents Donation
DESCRIPTION:Parents of seniors may drop off graduation donations ($90 requested) to PTSA at the SEM Office
URL:https://www.semagnet.org/calendar-item/12th-grade-parents-donation/
END:VEVENT
BEGIN:VEVENT
DTSTART;TZID=America/Chicago:20180829T183000
DTEND;TZID=America/Chicago:20180829T200000
DTSTAMP:20260422T171824
CREATED:20180918T215748Z
LAST-MODIFIED:20180918T215748Z
UID:2817-1535567400-1535572800@www.semagnet.org
SUMMARY:10th Grade Parent Meeting
DESCRIPTION:Theater
URL:https://www.semagnet.org/calendar-item/10th-grade-parent-meeting/
END:VEVENT
BEGIN:VEVENT
DTSTART;VALUE=DATE:20180826
DTEND;VALUE=DATE:20180827
DTSTAMP:20260422T171824
CREATED:20180918T215805Z
LAST-MODIFIED:20180918T215805Z
UID:2870-1535241600-1535327999@www.semagnet.org
SUMMARY:Membership Drive Continues
DESCRIPTION:
URL:https://www.semagnet.org/calendar-item/membership-drive-continues/
END:VEVENT
BEGIN:VEVENT
DTSTART;TZID=America/Chicago:20180822T183000
DTEND;TZID=America/Chicago:20180822T200000
DTSTAMP:20260422T171824
CREATED:20180918T215751Z
LAST-MODIFIED:20180918T215751Z
UID:2823-1534962600-1534968000@www.semagnet.org
SUMMARY:12th Grade Parent Meeting
DESCRIPTION:Theater
URL:https://www.semagnet.org/calendar-item/12th-grade-parent-meeting/
END:VEVENT
BEGIN:VEVENT
DTSTART;TZID=America/Chicago:20180814T153000
DTEND;TZID=America/Chicago:20180814T163000
DTSTAMP:20260422T171824
CREATED:20180918T215806Z
LAST-MODIFIED:20180918T215806Z
UID:2873-1534260600-1534264200@www.semagnet.org
SUMMARY:New Parent Meeting
DESCRIPTION:This meeting will cover items such as buses\, tutoring\, PowerSchool\, etc. There are two options\, both on 8/14/18\, option 1 is 9-10am\,and option 2 is 3:30-4:30pm
URL:https://www.semagnet.org/calendar-item/new-parent-meeting/
END:VEVENT
BEGIN:VEVENT
DTSTART;TZID=America/Chicago:20180814T090000
DTEND;TZID=America/Chicago:20180814T100000
DTSTAMP:20260422T171824
CREATED:20180918T215806Z
LAST-MODIFIED:20180918T215806Z
UID:2874-1534237200-1534240800@www.semagnet.org
SUMMARY:New Parent Meeting
DESCRIPTION:This meeting will cover items such as buses\, tutoring\, PowerSchool\, etc. There are two options\, both on 8/14/18\, option 1 is 9-10am\,and option 2 is 3:30-4:30pm
URL:https://www.semagnet.org/calendar-item/new-parent-meeting-2/
END:VEVENT
BEGIN:VEVENT
DTSTART;VALUE=DATE:20180814
DTEND;VALUE=DATE:20180815
DTSTAMP:20260422T171824
CREATED:20180918T215827Z
LAST-MODIFIED:20180918T215827Z
UID:2923-1534204800-1534291199@www.semagnet.org
SUMMARY:Townview Open House
DESCRIPTION:
URL:https://www.semagnet.org/calendar-item/townview-open-house/
END:VEVENT
BEGIN:VEVENT
DTSTART;TZID=America/Chicago:20180810T083000
DTEND;TZID=America/Chicago:20180810T160000
DTSTAMP:20260422T171824
CREATED:20180918T215822Z
LAST-MODIFIED:20180918T215822Z
UID:2914-1533889800-1533916800@www.semagnet.org
SUMMARY:Staff Development
DESCRIPTION:
URL:https://www.semagnet.org/calendar-item/staff-development/
END:VEVENT
BEGIN:VEVENT
DTSTART;TZID=America/Chicago:20180809T073000
DTEND;TZID=America/Chicago:20180809T093000
DTSTAMP:20260422T171824
CREATED:20180918T215821Z
LAST-MODIFIED:20180918T215821Z
UID:2910-1533799800-1533807000@www.semagnet.org
SUMMARY:SEM PTSA Staff Breakfast
DESCRIPTION:We are asking for donations and volunteers for our PTSA Back toSchool Teacher Breakfast.&nbsp;Please sign up using this link:“
URL:https://www.semagnet.org/calendar-item/sem-ptsa-staff-breakfast/
END:VEVENT
BEGIN:VEVENT
DTSTART;TZID=America/Chicago:20180730T070000
DTEND;TZID=America/Chicago:20180803T150000
DTSTAMP:20260422T171824
CREATED:20180918T215806Z
LAST-MODIFIED:20180918T215806Z
UID:2872-1532934000-1533308400@www.semagnet.org
SUMMARY:Nest Camp/ Physics Camp/ Senior Week/ PTA Membership drive
DESCRIPTION:
URL:https://www.semagnet.org/calendar-item/nest-camp-physics-camp-senior-week-pta-membership-drive/
END:VEVENT
BEGIN:VEVENT
DTSTART;VALUE=DATE:20180729
DTEND;VALUE=DATE:20180730
DTSTAMP:20260422T171824
CREATED:20180918T215751Z
LAST-MODIFIED:20180918T215751Z
UID:2826-1532822400-1532908799@www.semagnet.org
SUMMARY:2018-2019 Membership Drive Begins
DESCRIPTION:
URL:https://www.semagnet.org/calendar-item/2018-2019-membership-drive-begins/
END:VEVENT
BEGIN:VEVENT
DTSTART;TZID=America/Chicago:20180725T080000
DTEND;TZID=America/Chicago:20180725T100000
DTSTAMP:20260422T171824
CREATED:20180918T215803Z
LAST-MODIFIED:20180918T215803Z
UID:2863-1532505600-1532512800@www.semagnet.org
SUMMARY:Inventory for PTSA
DESCRIPTION:
URL:https://www.semagnet.org/calendar-item/inventory-for-ptsa/
END:VEVENT
BEGIN:VEVENT
DTSTART;VALUE=DATE:20180709
DTEND;VALUE=DATE:20180710
DTSTAMP:20260422T171824
CREATED:20180918T215758Z
LAST-MODIFIED:20180918T215758Z
UID:2847-1531094400-1531180799@www.semagnet.org
SUMMARY:E BLast Sign - up for Back to School
DESCRIPTION:
URL:https://www.semagnet.org/calendar-item/e-blast-sign-up-for-back-to-school/
END:VEVENT
BEGIN:VEVENT
DTSTART;TZID=America/Chicago:20180426T183000
DTEND;TZID=America/Chicago:20180426T200000
DTSTAMP:20260422T171824
CREATED:20180918T215803Z
LAST-MODIFIED:20180918T215803Z
UID:2862-1524767400-1524772800@www.semagnet.org
SUMMARY:Incoming 9th Grade Welcome
DESCRIPTION:Townview Magnet School\, 1201 E 8th St\, Dallas\, TX 75203\, USA
URL:https://www.semagnet.org/calendar-item/incoming-9th-grade-welcome/
END:VEVENT
END:VCALENDAR