BEGIN:VCALENDAR
VERSION:2.0
PRODID:-//The Science and Engineering Magnet - ECPv6.15.20//NONSGML v1.0//EN
CALSCALE:GREGORIAN
METHOD:PUBLISH
X-ORIGINAL-URL:https://www.semagnet.org
X-WR-CALDESC:Events for The Science and Engineering Magnet
REFRESH-INTERVAL;VALUE=DURATION:PT1H
X-Robots-Tag:noindex
X-PUBLISHED-TTL:PT1H
BEGIN:VTIMEZONE
TZID:America/Chicago
BEGIN:DAYLIGHT
TZOFFSETFROM:-0600
TZOFFSETTO:-0500
TZNAME:CDT
DTSTART:20170312T080000
END:DAYLIGHT
BEGIN:STANDARD
TZOFFSETFROM:-0500
TZOFFSETTO:-0600
TZNAME:CST
DTSTART:20171105T070000
END:STANDARD
BEGIN:DAYLIGHT
TZOFFSETFROM:-0600
TZOFFSETTO:-0500
TZNAME:CDT
DTSTART:20180311T080000
END:DAYLIGHT
BEGIN:STANDARD
TZOFFSETFROM:-0500
TZOFFSETTO:-0600
TZNAME:CST
DTSTART:20181104T070000
END:STANDARD
BEGIN:DAYLIGHT
TZOFFSETFROM:-0600
TZOFFSETTO:-0500
TZNAME:CDT
DTSTART:20190310T080000
END:DAYLIGHT
BEGIN:STANDARD
TZOFFSETFROM:-0500
TZOFFSETTO:-0600
TZNAME:CST
DTSTART:20191103T070000
END:STANDARD
END:VTIMEZONE
BEGIN:VEVENT
DTSTART;VALUE=DATE:20181203
DTEND;VALUE=DATE:20181204
DTSTAMP:20260422T120119
CREATED:20180918T215829Z
LAST-MODIFIED:20180918T215829Z
UID:2929-1543795200-1543881599@www.semagnet.org
SUMMARY:English I EOC
DESCRIPTION:All Freshman
URL:https://www.semagnet.org/calendar-item/english-i-eoc/
END:VEVENT
BEGIN:VEVENT
DTSTART;TZID=America/Chicago:20181127T080000
DTEND;TZID=America/Chicago:20181127T090000
DTSTAMP:20260422T120119
CREATED:20180918T215818Z
LAST-MODIFIED:20180918T215818Z
UID:2898-1543305600-1543309200@www.semagnet.org
SUMMARY:PTSA Morning Mixer
DESCRIPTION:Library
URL:https://www.semagnet.org/calendar-item/ptsa-morning-mixer-3/
END:VEVENT
BEGIN:VEVENT
DTSTART;VALUE=DATE:20181117
DTEND;VALUE=DATE:20181126
DTSTAMP:20260422T120119
CREATED:20180918T215824Z
LAST-MODIFIED:20181113T042507Z
UID:2921-1542412800-1543190399@www.semagnet.org
SUMMARY:Thanksgiving Break
DESCRIPTION:
URL:https://www.semagnet.org/calendar-item/thanksgiving-break/
END:VEVENT
BEGIN:VEVENT
DTSTART;TZID=America/Chicago:20181116T110000
DTEND;TZID=America/Chicago:20181116T130000
DTSTAMP:20260422T120119
CREATED:20180918T215826Z
LAST-MODIFIED:20181112T015421Z
UID:2922-1542366000-1542373200@www.semagnet.org
SUMMARY:Thanksgiving Teacher Lunch by PTSA
DESCRIPTION:Room 211
URL:https://www.semagnet.org/calendar-item/thanksgiving-teacher-lunch-by-ptsa/
END:VEVENT
BEGIN:VEVENT
DTSTART;TZID=America/Chicago:20181114T183000
DTEND;TZID=America/Chicago:20181114T200000
DTSTAMP:20260422T120119
CREATED:20180918T215814Z
LAST-MODIFIED:20180918T215814Z
UID:2891-1542220200-1542225600@www.semagnet.org
SUMMARY:PTSA Board Mtg.
DESCRIPTION:Room 211
URL:https://www.semagnet.org/calendar-item/ptsa-board-mtg-6/
END:VEVENT
BEGIN:VEVENT
DTSTART;TZID=America/Chicago:20181114T170000
DTEND;TZID=America/Chicago:20181114T180000
DTSTAMP:20260422T120119
CREATED:20180918T215819Z
LAST-MODIFIED:20180918T215819Z
UID:2906-1542214800-1542218400@www.semagnet.org
SUMMARY:SBDM
DESCRIPTION:Room 211
URL:https://www.semagnet.org/calendar-item/sbdm-2/
END:VEVENT
BEGIN:VEVENT
DTSTART;TZID=America/Chicago:20181114T162500
DTEND;TZID=America/Chicago:20181114T164000
DTSTAMP:20260422T120119
CREATED:20181112T011228Z
LAST-MODIFIED:20181112T011228Z
UID:3473-1542212700-1542213600@www.semagnet.org
SUMMARY:12th Grade Meeting - After School
DESCRIPTION:Meet for 10 minutes after school. See Ms. Tangman for more details.
URL:https://www.semagnet.org/calendar-item/12th-grade-meeting-after-school/
END:VEVENT
BEGIN:VEVENT
DTSTART;TZID=America/Chicago:20181112T183000
DTEND;TZID=America/Chicago:20181112T193000
DTSTAMP:20260422T120119
CREATED:20180918T215755Z
LAST-MODIFIED:20181112T010057Z
UID:2838-1542047400-1542051000@www.semagnet.org
SUMMARY:Admissions Preview
DESCRIPTION:
URL:https://www.semagnet.org/calendar-item/admissions-preview/
END:VEVENT
BEGIN:VEVENT
DTSTART;VALUE=DATE:20181112
DTEND;VALUE=DATE:20181113
DTSTAMP:20260422T120119
CREATED:20181112T011716Z
LAST-MODIFIED:20181112T011716Z
UID:3477-1541980800-1542067199@www.semagnet.org
SUMMARY:Report Cards Issued
DESCRIPTION:
URL:https://www.semagnet.org/calendar-item/report-cards-issued-3/
END:VEVENT
BEGIN:VEVENT
DTSTART;TZID=America/Chicago:20181110T160000
DTEND;TZID=America/Chicago:20181110T170000
DTSTAMP:20260422T120119
CREATED:20181112T010009Z
LAST-MODIFIED:20181112T010009Z
UID:3469-1541865600-1541869200@www.semagnet.org
SUMMARY:Admissions Preview
DESCRIPTION:
URL:https://www.semagnet.org/calendar-item/admissions-preview-2/
END:VEVENT
BEGIN:VEVENT
DTSTART;TZID=America/Chicago:20181107T183000
DTEND;TZID=America/Chicago:20181107T200000
DTSTAMP:20260422T120119
CREATED:20180918T215802Z
LAST-MODIFIED:20180918T215802Z
UID:2861-1541615400-1541620800@www.semagnet.org
SUMMARY:Honor Society Induction
DESCRIPTION:Theater
URL:https://www.semagnet.org/calendar-item/honor-society-induction/
END:VEVENT
BEGIN:VEVENT
DTSTART;VALUE=DATE:20181105
DTEND;VALUE=DATE:20181106
DTSTAMP:20260422T120119
CREATED:20180918T215823Z
LAST-MODIFIED:20180918T215823Z
UID:2916-1541376000-1541462399@www.semagnet.org
SUMMARY:Start of 3rd Six Weeks
DESCRIPTION:
URL:https://www.semagnet.org/calendar-item/start-of-3rd-six-weeks/
END:VEVENT
BEGIN:VEVENT
DTSTART;VALUE=DATE:20181102
DTEND;VALUE=DATE:20181103
DTSTAMP:20260422T120119
CREATED:20180918T215759Z
LAST-MODIFIED:20180918T215759Z
UID:2850-1541116800-1541203199@www.semagnet.org
SUMMARY:End of 2nd Six Weeks
DESCRIPTION:
URL:https://www.semagnet.org/calendar-item/end-of-2nd-six-weeks/
END:VEVENT
BEGIN:VEVENT
DTSTART;VALUE=DATE:20181031
DTEND;VALUE=DATE:20181101
DTSTAMP:20260422T120119
CREATED:20180918T215802Z
LAST-MODIFIED:20180918T215802Z
UID:2859-1540944000-1541030399@www.semagnet.org
SUMMARY:Halloween
DESCRIPTION:
URL:https://www.semagnet.org/calendar-item/halloween/
END:VEVENT
BEGIN:VEVENT
DTSTART;TZID=America/Chicago:20181027T090000
DTEND;TZID=America/Chicago:20181027T140000
DTSTAMP:20260422T120119
CREATED:20181022T001617Z
LAST-MODIFIED:20181022T001617Z
UID:3271-1540630800-1540648800@www.semagnet.org
SUMMARY:12th Grade College Application Workshop with Teachers
DESCRIPTION:
URL:https://www.semagnet.org/calendar-item/12th-grade-college-application-workshop-with-teachers/
END:VEVENT
BEGIN:VEVENT
DTSTART;TZID=America/Chicago:20181026T144000
DTEND;TZID=America/Chicago:20181026T163000
DTSTAMP:20260422T120119
CREATED:20181022T000908Z
LAST-MODIFIED:20181022T000908Z
UID:3266-1540564800-1540571400@www.semagnet.org
SUMMARY:Oktober Fest
DESCRIPTION:Last class period on Friday Oct 26th in the Commons\n\n\n\n\n\n\n\nTickets $10 pre sale only
URL:https://www.semagnet.org/calendar-item/oktober-fest/
END:VEVENT
BEGIN:VEVENT
DTSTART;TZID=America/Chicago:20181025T153000
DTEND;TZID=America/Chicago:20181025T163000
DTSTAMP:20260422T120119
CREATED:20181022T000303Z
LAST-MODIFIED:20181022T000303Z
UID:3262-1540481400-1540485000@www.semagnet.org
SUMMARY:12th Grade Meeting
DESCRIPTION:12th grade meeting at approximately 3:30PM in commons (wait for announcement and teacher directions)
URL:https://www.semagnet.org/calendar-item/12th-grade-meeting/
END:VEVENT
BEGIN:VEVENT
DTSTART;TZID=America/Chicago:20181023T080000
DTEND;TZID=America/Chicago:20181023T090000
DTSTAMP:20260422T120119
CREATED:20180918T215817Z
LAST-MODIFIED:20180918T215817Z
UID:2897-1540281600-1540285200@www.semagnet.org
SUMMARY:PTSA Morning Mixer
DESCRIPTION:Library
URL:https://www.semagnet.org/calendar-item/ptsa-morning-mixer-2/
END:VEVENT
BEGIN:VEVENT
DTSTART;VALUE=DATE:20181021
DTEND;VALUE=DATE:20181022
DTSTAMP:20260422T120119
CREATED:20181022T000336Z
LAST-MODIFIED:20181022T000336Z
UID:3264-1540080000-1540166399@www.semagnet.org
SUMMARY:SEM Picture Makeup Day
DESCRIPTION:
URL:https://www.semagnet.org/calendar-item/sem-picture-makeup-day/
END:VEVENT
BEGIN:VEVENT
DTSTART;TZID=America/Chicago:20181019T080000
DTEND;TZID=America/Chicago:20181019T210000
DTSTAMP:20260422T120119
CREATED:20180918T215821Z
LAST-MODIFIED:20181016T003204Z
UID:2909-1539936000-1539982800@www.semagnet.org
SUMMARY:Secondary Fair Day - Student Holiday
DESCRIPTION:
URL:https://www.semagnet.org/calendar-item/secondary-fair-day/
END:VEVENT
BEGIN:VEVENT
DTSTART;VALUE=DATE:20181016
DTEND;VALUE=DATE:20181017
DTSTAMP:20260422T120119
CREATED:20181015T202836Z
LAST-MODIFIED:20181015T202836Z
UID:3158-1539648000-1539734399@www.semagnet.org
SUMMARY:ACT Test
DESCRIPTION:New date for seniors to take the ACT
URL:https://www.semagnet.org/calendar-item/act-test/
END:VEVENT
BEGIN:VEVENT
DTSTART;TZID=America/Chicago:20181012T080000
DTEND;TZID=America/Chicago:20181012T210000
DTSTAMP:20260422T120119
CREATED:20180918T215758Z
LAST-MODIFIED:20181016T003217Z
UID:2848-1539331200-1539378000@www.semagnet.org
SUMMARY:Elementary Fair Day - Student Holiday
DESCRIPTION:
URL:https://www.semagnet.org/calendar-item/elementary-fair-day/
END:VEVENT
BEGIN:VEVENT
DTSTART;TZID=America/Chicago:20181010T170000
DTEND;TZID=America/Chicago:20181010T170000
DTSTAMP:20260422T120119
CREATED:20180918T215819Z
LAST-MODIFIED:20180918T215819Z
UID:2905-1539190800-1539190800@www.semagnet.org
SUMMARY:SBDM
DESCRIPTION:Room 211
URL:https://www.semagnet.org/calendar-item/sbdm/
END:VEVENT
BEGIN:VEVENT
DTSTART;VALUE=DATE:20181010
DTEND;VALUE=DATE:20181011
DTSTAMP:20260422T120119
CREATED:20180918T215811Z
LAST-MODIFIED:20180918T215811Z
UID:2885-1539129600-1539215999@www.semagnet.org
SUMMARY:PSAT Grades 9-11
DESCRIPTION:
URL:https://www.semagnet.org/calendar-item/psat-grades-9-11/
END:VEVENT
BEGIN:VEVENT
DTSTART;TZID=America/Chicago:20181008T170000
DTEND;TZID=America/Chicago:20181008T200000
DTSTAMP:20260422T120119
CREATED:20180918T215808Z
LAST-MODIFIED:20180927T185055Z
UID:2881-1539018000-1539028800@www.semagnet.org
SUMMARY:Parent Teacher Conferences
DESCRIPTION:
URL:https://www.semagnet.org/calendar-item/parent-teacher-conferences/
END:VEVENT
BEGIN:VEVENT
DTSTART;VALUE=DATE:20181008
DTEND;VALUE=DATE:20181009
DTSTAMP:20260422T120119
CREATED:20180918T215819Z
LAST-MODIFIED:20180918T215819Z
UID:2902-1538956800-1539043199@www.semagnet.org
SUMMARY:Report Cards Issued
DESCRIPTION:
URL:https://www.semagnet.org/calendar-item/report-cards-issued/
END:VEVENT
BEGIN:VEVENT
DTSTART;TZID=America/Chicago:20181003T183000
DTEND;TZID=America/Chicago:20181003T200000
DTSTAMP:20260422T120119
CREATED:20180918T215813Z
LAST-MODIFIED:20180918T215813Z
UID:2887-1538591400-1538596800@www.semagnet.org
SUMMARY:PTSA Board Mtg
DESCRIPTION:Room 211
URL:https://www.semagnet.org/calendar-item/ptsa-board-mtg-2/
END:VEVENT
BEGIN:VEVENT
DTSTART;VALUE=DATE:20181002
DTEND;VALUE=DATE:20181003
DTSTAMP:20260422T120119
CREATED:20180918T215829Z
LAST-MODIFIED:20180928T210251Z
UID:2928-1538438400-1538524799@www.semagnet.org
SUMMARY:ACT **CANCELLED**
DESCRIPTION:This is a nation-wide cancellation. Mr. Palacios will forward information regarding the make-up ACT exam as soon as it becomes available from the district. October 2nd is now a regular “A” day with no testing or relocations.
URL:https://www.semagnet.org/calendar-item/act/
END:VEVENT
BEGIN:VEVENT
DTSTART;VALUE=DATE:20181001
DTEND;VALUE=DATE:20181002
DTSTAMP:20260422T120119
CREATED:20180918T215822Z
LAST-MODIFIED:20180918T215822Z
UID:2915-1538352000-1538438399@www.semagnet.org
SUMMARY:Start of 2nd Six Weeks
DESCRIPTION:
URL:https://www.semagnet.org/calendar-item/start-of-2nd-six-weeks/
END:VEVENT
BEGIN:VEVENT
DTSTART;VALUE=DATE:20181001
DTEND;VALUE=DATE:20181002
DTSTAMP:20260422T120119
CREATED:20180918T215821Z
LAST-MODIFIED:20180918T215821Z
UID:2911-1538352000-1538438399@www.semagnet.org
SUMMARY:Shadow Program Begins
DESCRIPTION:
URL:https://www.semagnet.org/calendar-item/shadow-program-begins/
END:VEVENT
END:VCALENDAR