BEGIN:VCALENDAR
VERSION:2.0
PRODID:-//The Science and Engineering Magnet - ECPv6.15.20//NONSGML v1.0//EN
CALSCALE:GREGORIAN
METHOD:PUBLISH
X-WR-CALNAME:The Science and Engineering Magnet
X-ORIGINAL-URL:https://www.semagnet.org
X-WR-CALDESC:Events for The Science and Engineering Magnet
REFRESH-INTERVAL;VALUE=DURATION:PT1H
X-Robots-Tag:noindex
X-PUBLISHED-TTL:PT1H
BEGIN:VTIMEZONE
TZID:America/Chicago
BEGIN:DAYLIGHT
TZOFFSETFROM:-0600
TZOFFSETTO:-0500
TZNAME:CDT
DTSTART:20170312T080000
END:DAYLIGHT
BEGIN:STANDARD
TZOFFSETFROM:-0500
TZOFFSETTO:-0600
TZNAME:CST
DTSTART:20171105T070000
END:STANDARD
BEGIN:DAYLIGHT
TZOFFSETFROM:-0600
TZOFFSETTO:-0500
TZNAME:CDT
DTSTART:20180311T080000
END:DAYLIGHT
BEGIN:STANDARD
TZOFFSETFROM:-0500
TZOFFSETTO:-0600
TZNAME:CST
DTSTART:20181104T070000
END:STANDARD
BEGIN:DAYLIGHT
TZOFFSETFROM:-0600
TZOFFSETTO:-0500
TZNAME:CDT
DTSTART:20190310T080000
END:DAYLIGHT
BEGIN:STANDARD
TZOFFSETFROM:-0500
TZOFFSETTO:-0600
TZNAME:CST
DTSTART:20191103T070000
END:STANDARD
BEGIN:DAYLIGHT
TZOFFSETFROM:-0600
TZOFFSETTO:-0500
TZNAME:CDT
DTSTART:20200308T080000
END:DAYLIGHT
BEGIN:STANDARD
TZOFFSETFROM:-0500
TZOFFSETTO:-0600
TZNAME:CST
DTSTART:20201101T070000
END:STANDARD
END:VTIMEZONE
BEGIN:VEVENT
DTSTART;VALUE=DATE:20190411
DTEND;VALUE=DATE:20190412
DTSTAMP:20260422T070452
CREATED:20190301T163403Z
LAST-MODIFIED:20190318T225234Z
UID:4087-1554940800-1555027199@www.semagnet.org
SUMMARY:STAAR (EOC) English II
DESCRIPTION:
URL:https://www.semagnet.org/calendar-item/eoc-english-ii/
END:VEVENT
BEGIN:VEVENT
DTSTART;TZID=America/Chicago:20190410T183000
DTEND;TZID=America/Chicago:20190410T190000
DTSTAMP:20260422T070452
CREATED:20180918T215816Z
LAST-MODIFIED:20180918T215816Z
UID:2895-1554921000-1554922800@www.semagnet.org
SUMMARY:PTSA Elections
DESCRIPTION:
URL:https://www.semagnet.org/calendar-item/ptsa-elections/
END:VEVENT
BEGIN:VEVENT
DTSTART;TZID=America/Chicago:20190410T180000
DTEND;TZID=America/Chicago:20190410T190000
DTSTAMP:20260422T070452
CREATED:20190301T162653Z
LAST-MODIFIED:20190301T162653Z
UID:4081-1554919200-1554922800@www.semagnet.org
SUMMARY:9th Grade Meeting (2 of 2)
DESCRIPTION:Theater
URL:https://www.semagnet.org/calendar-item/9th-grade-meeting-2-of-2/
END:VEVENT
BEGIN:VEVENT
DTSTART;TZID=America/Chicago:20190408T180000
DTEND;TZID=America/Chicago:20190408T190000
DTSTAMP:20260422T070452
CREATED:20190301T162606Z
LAST-MODIFIED:20190301T162606Z
UID:4079-1554746400-1554750000@www.semagnet.org
SUMMARY:9th Grade Meeting (1 of 2)
DESCRIPTION:Theater
URL:https://www.semagnet.org/calendar-item/9th-grade-meeting-1-of-2/
END:VEVENT
BEGIN:VEVENT
DTSTART;VALUE=DATE:20190408
DTEND;VALUE=DATE:20190409
DTSTAMP:20260422T070452
CREATED:20180918T215752Z
LAST-MODIFIED:20180918T215752Z
UID:2827-1554681600-1554767999@www.semagnet.org
SUMMARY:2nd Round Letters Mailed
DESCRIPTION:
URL:https://www.semagnet.org/calendar-item/2nd-round-letters-mailed/
END:VEVENT
BEGIN:VEVENT
DTSTART;TZID=America/Chicago:20190405T180000
DTEND;TZID=America/Chicago:20190405T190000
DTSTAMP:20260422T070452
CREATED:20190301T162449Z
LAST-MODIFIED:20190301T162449Z
UID:4077-1554487200-1554490800@www.semagnet.org
SUMMARY:10th - 11th Grade Meeting
DESCRIPTION:Theater
URL:https://www.semagnet.org/calendar-item/10th-11th-grade-meeting-2/
END:VEVENT
BEGIN:VEVENT
DTSTART;TZID=America/Chicago:20190403T183000
DTEND;TZID=America/Chicago:20190403T200000
DTSTAMP:20260422T070452
CREATED:20180918T215816Z
LAST-MODIFIED:20180918T215816Z
UID:2893-1554316200-1554321600@www.semagnet.org
SUMMARY:PTSA Board Mtg.
DESCRIPTION:Room 211
URL:https://www.semagnet.org/calendar-item/ptsa-board-mtg-8/
END:VEVENT
BEGIN:VEVENT
DTSTART;TZID=America/Chicago:20190403T180000
DTEND;TZID=America/Chicago:20190403T190000
DTSTAMP:20260422T070452
CREATED:20190301T162345Z
LAST-MODIFIED:20190301T162345Z
UID:4075-1554314400-1554318000@www.semagnet.org
SUMMARY:12th Grade Meeting
DESCRIPTION:Theater
URL:https://www.semagnet.org/calendar-item/12th-grade-meeting-2/
END:VEVENT
BEGIN:VEVENT
DTSTART;VALUE=DATE:20190311
DTEND;VALUE=DATE:20190316
DTSTAMP:20260422T070452
CREATED:20180918T215822Z
LAST-MODIFIED:20180918T215822Z
UID:2913-1552262400-1552694399@www.semagnet.org
SUMMARY:SPRING BREAK
DESCRIPTION:
URL:https://www.semagnet.org/calendar-item/spring-break/
END:VEVENT
BEGIN:VEVENT
DTSTART;TZID=America/Chicago:20190306T183000
DTEND;TZID=America/Chicago:20190306T200000
DTSTAMP:20260422T070452
CREATED:20180918T215815Z
LAST-MODIFIED:20180918T215815Z
UID:2892-1551897000-1551902400@www.semagnet.org
SUMMARY:PTSA Board Mtg.
DESCRIPTION:Room 211
URL:https://www.semagnet.org/calendar-item/ptsa-board-mtg-7/
END:VEVENT
BEGIN:VEVENT
DTSTART;VALUE=DATE:20190306
DTEND;VALUE=DATE:20190307
DTSTAMP:20260422T070452
CREATED:20180918T215819Z
LAST-MODIFIED:20180918T215819Z
UID:2904-1551830400-1551916799@www.semagnet.org
SUMMARY:SAT
DESCRIPTION:All Juniors
URL:https://www.semagnet.org/calendar-item/sat/
END:VEVENT
BEGIN:VEVENT
DTSTART;VALUE=DATE:20190306
DTEND;VALUE=DATE:20190307
DTSTAMP:20260422T070452
CREATED:20180918T215804Z
LAST-MODIFIED:20180918T215804Z
UID:2865-1551830400-1551916799@www.semagnet.org
SUMMARY:Magnet Exchange
DESCRIPTION:
URL:https://www.semagnet.org/calendar-item/magnet-exchange/
END:VEVENT
BEGIN:VEVENT
DTSTART;TZID=America/Chicago:20190305T080000
DTEND;TZID=America/Chicago:20190305T090000
DTSTAMP:20260422T070452
CREATED:20180918T215818Z
LAST-MODIFIED:20180918T215818Z
UID:2900-1551772800-1551776400@www.semagnet.org
SUMMARY:PTSA Morning Mixer
DESCRIPTION:Library
URL:https://www.semagnet.org/calendar-item/ptsa-morning-mixer-5/
END:VEVENT
BEGIN:VEVENT
DTSTART;VALUE=DATE:20190301
DTEND;VALUE=DATE:20190302
DTSTAMP:20260422T070452
CREATED:20180918T215751Z
LAST-MODIFIED:20180918T215751Z
UID:2825-1551398400-1551484799@www.semagnet.org
SUMMARY:1st Round Letters Mailed
DESCRIPTION:
URL:https://www.semagnet.org/calendar-item/1st-round-letters-mailed/
END:VEVENT
BEGIN:VEVENT
DTSTART;VALUE=DATE:20190225
DTEND;VALUE=DATE:20190226
DTSTAMP:20260422T070452
CREATED:20180918T215824Z
LAST-MODIFIED:20180918T215824Z
UID:2918-1551052800-1551139199@www.semagnet.org
SUMMARY:Start of 5th Six Weeks
DESCRIPTION:
URL:https://www.semagnet.org/calendar-item/start-of-5th-six-weeks/
END:VEVENT
BEGIN:VEVENT
DTSTART;VALUE=DATE:20190222
DTEND;VALUE=DATE:20190223
DTSTAMP:20260422T070452
CREATED:20180918T215759Z
LAST-MODIFIED:20180918T215759Z
UID:2851-1550793600-1550879999@www.semagnet.org
SUMMARY:End of 4th Six Weeks
DESCRIPTION:
URL:https://www.semagnet.org/calendar-item/end-of-4th-six-weeks/
END:VEVENT
BEGIN:VEVENT
DTSTART;VALUE=DATE:20190218
DTEND;VALUE=DATE:20190219
DTSTAMP:20260422T070452
CREATED:20180918T215808Z
LAST-MODIFIED:20181016T003103Z
UID:2878-1550448000-1550534399@www.semagnet.org
SUMMARY:President's Day - Student Holiday
DESCRIPTION:
URL:https://www.semagnet.org/calendar-item/no-school-presidents-day/
END:VEVENT
BEGIN:VEVENT
DTSTART;VALUE=DATE:20190215
DTEND;VALUE=DATE:20190216
DTSTAMP:20260422T070452
CREATED:20190201T045759Z
LAST-MODIFIED:20190201T045759Z
UID:4003-1550188800-1550275199@www.semagnet.org
SUMMARY:Student Holiday / Staff Development Day
DESCRIPTION:
URL:https://www.semagnet.org/calendar-item/student-holiday-staff-development-day/
END:VEVENT
BEGIN:VEVENT
DTSTART;TZID=America/Chicago:20190213T183000
DTEND;TZID=America/Chicago:20190213T200000
DTSTAMP:20260422T070452
CREATED:20180918T215814Z
LAST-MODIFIED:20190131T233137Z
UID:2890-1550082600-1550088000@www.semagnet.org
SUMMARY:PTSA Board Mtg
DESCRIPTION:Room 211 \nThe February 6th Board Meeting has been changed to February 13th
URL:https://www.semagnet.org/calendar-item/ptsa-board-mtg-5/
END:VEVENT
BEGIN:VEVENT
DTSTART;TZID=America/Chicago:20190206T183000
DTEND;TZID=America/Chicago:20190206T193000
DTSTAMP:20260422T070452
CREATED:20190201T045431Z
LAST-MODIFIED:20190201T051328Z
UID:4001-1549477800-1549481400@www.semagnet.org
SUMMARY:Mandatory Junior Class Meeting
DESCRIPTION:In the Theater \nSee https://www.semagnet.org/2019/01/31/mandatory-junior-parent-meeting/ for more details
URL:https://www.semagnet.org/calendar-item/mandatory-junior-class-meeting/
END:VEVENT
BEGIN:VEVENT
DTSTART;TZID=America/Chicago:20190206T170000
DTEND;TZID=America/Chicago:20190206T180000
DTSTAMP:20260422T070452
CREATED:20180918T215820Z
LAST-MODIFIED:20180918T215820Z
UID:2907-1549472400-1549476000@www.semagnet.org
SUMMARY:SBDM
DESCRIPTION:Room 211
URL:https://www.semagnet.org/calendar-item/sbdm-3/
END:VEVENT
BEGIN:VEVENT
DTSTART;VALUE=DATE:20190131
DTEND;VALUE=DATE:20190201
DTSTAMP:20260422T070452
CREATED:20180918T215800Z
LAST-MODIFIED:20180918T215800Z
UID:2853-1548892800-1548979199@www.semagnet.org
SUMMARY:Final Date to Submit Applications
DESCRIPTION:
URL:https://www.semagnet.org/calendar-item/final-date-to-submit-applications/
END:VEVENT
BEGIN:VEVENT
DTSTART;TZID=America/Chicago:20190129T080000
DTEND;TZID=America/Chicago:20190129T090000
DTSTAMP:20260422T070452
CREATED:20180918T215818Z
LAST-MODIFIED:20180918T215818Z
UID:2899-1548748800-1548752400@www.semagnet.org
SUMMARY:PTSA Morning Mixer
DESCRIPTION:Library
URL:https://www.semagnet.org/calendar-item/ptsa-morning-mixer-4/
END:VEVENT
BEGIN:VEVENT
DTSTART;VALUE=DATE:20190121
DTEND;VALUE=DATE:20190122
DTSTAMP:20260422T070452
CREATED:20180918T215808Z
LAST-MODIFIED:20181016T003125Z
UID:2877-1548028800-1548115199@www.semagnet.org
SUMMARY:MLK Day - Student Holiday
DESCRIPTION:
URL:https://www.semagnet.org/calendar-item/no-school-mlk-day/
END:VEVENT
BEGIN:VEVENT
DTSTART;TZID=America/Chicago:20190114T170000
DTEND;TZID=America/Chicago:20190114T200000
DTSTAMP:20260422T070452
CREATED:20180918T215808Z
LAST-MODIFIED:20190114T035255Z
UID:2880-1547485200-1547496000@www.semagnet.org
SUMMARY:Parent Teacher Conferences
DESCRIPTION:
URL:https://www.semagnet.org/calendar-item/parent-conference/
END:VEVENT
BEGIN:VEVENT
DTSTART;VALUE=DATE:20190114
DTEND;VALUE=DATE:20190115
DTSTAMP:20260422T070452
CREATED:20180918T215819Z
LAST-MODIFIED:20180918T215819Z
UID:2903-1547424000-1547510399@www.semagnet.org
SUMMARY:Report Cards Issued
DESCRIPTION:
URL:https://www.semagnet.org/calendar-item/report-cards-issued-2/
END:VEVENT
BEGIN:VEVENT
DTSTART;TZID=America/Chicago:20190109T183000
DTEND;TZID=America/Chicago:20190109T200000
DTSTAMP:20260422T070452
CREATED:20180918T215813Z
LAST-MODIFIED:20180918T215813Z
UID:2889-1547058600-1547064000@www.semagnet.org
SUMMARY:PTSA Board Mtg
DESCRIPTION:Room 211
URL:https://www.semagnet.org/calendar-item/ptsa-board-mtg-4/
END:VEVENT
BEGIN:VEVENT
DTSTART;VALUE=DATE:20190108
DTEND;VALUE=DATE:20190109
DTSTAMP:20260422T070452
CREATED:20180918T215824Z
LAST-MODIFIED:20180918T215824Z
UID:2917-1546905600-1546991999@www.semagnet.org
SUMMARY:Start of 4th Six Weeks
DESCRIPTION:
URL:https://www.semagnet.org/calendar-item/start-of-4th-six-weeks/
END:VEVENT
BEGIN:VEVENT
DTSTART;VALUE=DATE:20190108
DTEND;VALUE=DATE:20190109
DTSTAMP:20260422T070452
CREATED:20180918T215800Z
LAST-MODIFIED:20180918T215800Z
UID:2854-1546905600-1546991999@www.semagnet.org
SUMMARY:First Day Back
DESCRIPTION:
URL:https://www.semagnet.org/calendar-item/first-day-back/
END:VEVENT
BEGIN:VEVENT
DTSTART;VALUE=DATE:20181220
DTEND;VALUE=DATE:20190108
DTSTAMP:20260422T070452
CREATED:20180918T215802Z
LAST-MODIFIED:20180918T215802Z
UID:2860-1545264000-1546905599@www.semagnet.org
SUMMARY:Holiday Break
DESCRIPTION:
URL:https://www.semagnet.org/calendar-item/holiday-break/
END:VEVENT
END:VCALENDAR