BEGIN:VCALENDAR
VERSION:2.0
PRODID:-//The Science and Engineering Magnet - ECPv6.15.20//NONSGML v1.0//EN
CALSCALE:GREGORIAN
METHOD:PUBLISH
X-ORIGINAL-URL:https://www.semagnet.org
X-WR-CALDESC:Events for The Science and Engineering Magnet
REFRESH-INTERVAL;VALUE=DURATION:PT1H
X-Robots-Tag:noindex
X-PUBLISHED-TTL:PT1H
BEGIN:VTIMEZONE
TZID:America/Chicago
BEGIN:DAYLIGHT
TZOFFSETFROM:-0600
TZOFFSETTO:-0500
TZNAME:CDT
DTSTART:20180311T080000
END:DAYLIGHT
BEGIN:STANDARD
TZOFFSETFROM:-0500
TZOFFSETTO:-0600
TZNAME:CST
DTSTART:20181104T070000
END:STANDARD
BEGIN:DAYLIGHT
TZOFFSETFROM:-0600
TZOFFSETTO:-0500
TZNAME:CDT
DTSTART:20190310T080000
END:DAYLIGHT
BEGIN:STANDARD
TZOFFSETFROM:-0500
TZOFFSETTO:-0600
TZNAME:CST
DTSTART:20191103T070000
END:STANDARD
BEGIN:DAYLIGHT
TZOFFSETFROM:-0600
TZOFFSETTO:-0500
TZNAME:CDT
DTSTART:20200308T080000
END:DAYLIGHT
BEGIN:STANDARD
TZOFFSETFROM:-0500
TZOFFSETTO:-0600
TZNAME:CST
DTSTART:20201101T070000
END:STANDARD
END:VTIMEZONE
BEGIN:VEVENT
DTSTART;VALUE=DATE:20190819
DTEND;VALUE=DATE:20190820
DTSTAMP:20260424T032406
CREATED:20190923T175624Z
LAST-MODIFIED:20190923T175624Z
UID:4692-1566172800-1566259199@www.semagnet.org
SUMMARY:First Six Weeks Begins
DESCRIPTION:
URL:https://www.semagnet.org/calendar-item/first-six-weeks-begins/
END:VEVENT
BEGIN:VEVENT
DTSTART;VALUE=DATE:20190819
DTEND;VALUE=DATE:20190820
DTSTAMP:20260424T032406
CREATED:20180918T215800Z
LAST-MODIFIED:20180918T215800Z
UID:2855-1566172800-1566259199@www.semagnet.org
SUMMARY:First Day of School
DESCRIPTION:
URL:https://www.semagnet.org/calendar-item/first-day-of-school/
END:VEVENT
BEGIN:VEVENT
DTSTART;TZID=America/Chicago:20190815T180000
DTEND;TZID=America/Chicago:20190815T190000
DTSTAMP:20260424T032406
CREATED:20190813T044455Z
LAST-MODIFIED:20190813T044629Z
UID:4533-1565892000-1565895600@www.semagnet.org
SUMMARY:New Parent Orientation
DESCRIPTION:If you are a new parent (rising 9th or 10th grade)\, please join us at one of the following identical sessions: Thursday\, August 15th from 9:00am – 10:00am OR 6:00pm – 7:00pm. Both identical sessions will be held in theater.
URL:https://www.semagnet.org/calendar-item/new-parent-orientation-2/
END:VEVENT
BEGIN:VEVENT
DTSTART;TZID=America/Chicago:20190815T090000
DTEND;TZID=America/Chicago:20190815T100000
DTSTAMP:20260424T032406
CREATED:20190813T044422Z
LAST-MODIFIED:20190813T044422Z
UID:4531-1565859600-1565863200@www.semagnet.org
SUMMARY:New Parent Orientation
DESCRIPTION:If you are a new parent (rising 9th or 10th grade)\, please join us at one of the following identical sessions: Thursday\, August 15th from 9:00am – 10:00am OR 6:00pm – 7:00pm. Both identical sessions will be held in theater.
URL:https://www.semagnet.org/calendar-item/new-parent-orientation/
END:VEVENT
BEGIN:VEVENT
DTSTART;TZID=America/Chicago:20190814T190000
DTEND;TZID=America/Chicago:20190814T200000
DTSTAMP:20260424T032406
CREATED:20190813T044226Z
LAST-MODIFIED:20190813T044226Z
UID:4529-1565809200-1565812800@www.semagnet.org
SUMMARY:Annual Title I Meeting
DESCRIPTION:In the theater
URL:https://www.semagnet.org/calendar-item/annual-title-i-meeting/
END:VEVENT
BEGIN:VEVENT
DTSTART;TZID=America/Chicago:20190814T170000
DTEND;TZID=America/Chicago:20190814T200000
DTSTAMP:20260424T032406
CREATED:20190813T044104Z
LAST-MODIFIED:20190813T044104Z
UID:4527-1565802000-1565812800@www.semagnet.org
SUMMARY:Open House
DESCRIPTION:You will have the opportunity to pick up your student’s schedule\, meet his or her teachers\, and locate classrooms. Student schedules are subject to change.
URL:https://www.semagnet.org/calendar-item/open-house-2/
END:VEVENT
BEGIN:VEVENT
DTSTART;TZID=America/Chicago:20190814T150000
DTEND;TZID=America/Chicago:20190814T200000
DTSTAMP:20260424T032406
CREATED:20190922T001919Z
LAST-MODIFIED:20190924T031348Z
UID:4657-1565794800-1565812800@www.semagnet.org
SUMMARY:SEM Open House
DESCRIPTION:Volunteers and donations needed: https://www.signupgenius.com/go/70a0849a9a72aa4fd0-semopen   (Rm 211) Yvonne A. Ewell Townview Center\, 1201 E 8th St\, Dallas\, TX 75203\, USA
URL:https://www.semagnet.org/calendar-item/sem-open-house/
END:VEVENT
BEGIN:VEVENT
DTSTART;TZID=America/Chicago:20190808T073000
DTEND;TZID=America/Chicago:20190808T100000
DTSTAMP:20260424T032406
CREATED:20190922T001919Z
LAST-MODIFIED:20190924T031348Z
UID:4656-1565249400-1565258400@www.semagnet.org
SUMMARY:Back-to-School Breakfast for Teachers
DESCRIPTION:Volunteers and food donations needed: https://www.signupgenius.com/go/70a0849a9a72aa4fd0-sembacktoschool   (Rm 211) Yvonne A. Ewell Townview Center\, 1201 E 8th St\, Dallas\, TX 75203\, USA
URL:https://www.semagnet.org/calendar-item/back-to-school-breakfast-for-teachers/
END:VEVENT
BEGIN:VEVENT
DTSTART;TZID=America/Chicago:20190807T183000
DTEND;TZID=America/Chicago:20190807T193000
DTSTAMP:20260424T032406
CREATED:20190922T001919Z
LAST-MODIFIED:20190924T031348Z
UID:4655-1565202600-1565206200@www.semagnet.org
SUMMARY:SEM PTSA Board Meeting
DESCRIPTION:Come early if possible to help assemble teacher goodie bags! (Rm 211) Yvonne A. Ewell Townview Center\, 1201 E 8th St\, Dallas\, TX 75203\, USA
URL:https://www.semagnet.org/calendar-item/sem-ptsa-board-meeting/
END:VEVENT
BEGIN:VEVENT
DTSTART;VALUE=DATE:20190729
DTEND;VALUE=DATE:20190803
DTSTAMP:20260424T032406
CREATED:20190725T164135Z
LAST-MODIFIED:20190726T171606Z
UID:4460-1564358400-1564790399@www.semagnet.org
SUMMARY:NEST Camp 2019
DESCRIPTION:8:30 am to 2:30 pm \nSee the post NEST Camp 2019-2020 and 8th Street Closure for details.
URL:https://www.semagnet.org/calendar-item/nest-camp-2019/
END:VEVENT
BEGIN:VEVENT
DTSTART;VALUE=DATE:20190617
DTEND;VALUE=DATE:20190622
DTSTAMP:20260424T032406
CREATED:20190301T192001Z
LAST-MODIFIED:20190301T192001Z
UID:4102-1560729600-1561161599@www.semagnet.org
SUMMARY:Summer PE
DESCRIPTION:
URL:https://www.semagnet.org/calendar-item/summer-pe-3/
END:VEVENT
BEGIN:VEVENT
DTSTART;VALUE=DATE:20190617
DTEND;VALUE=DATE:20190622
DTSTAMP:20260424T032406
CREATED:20180918T215756Z
LAST-MODIFIED:20180918T215756Z
UID:2841-1560729600-1561161599@www.semagnet.org
SUMMARY:Algebra Camp
DESCRIPTION:
URL:https://www.semagnet.org/calendar-item/algebra-camp-3/
END:VEVENT
BEGIN:VEVENT
DTSTART;VALUE=DATE:20190610
DTEND;VALUE=DATE:20190615
DTSTAMP:20260424T032406
CREATED:20190301T191939Z
LAST-MODIFIED:20190301T191939Z
UID:4100-1560124800-1560556799@www.semagnet.org
SUMMARY:Summer PE
DESCRIPTION:
URL:https://www.semagnet.org/calendar-item/summer-pe-2/
END:VEVENT
BEGIN:VEVENT
DTSTART;VALUE=DATE:20190610
DTEND;VALUE=DATE:20190615
DTSTAMP:20260424T032406
CREATED:20180918T215755Z
LAST-MODIFIED:20180918T215755Z
UID:2840-1560124800-1560556799@www.semagnet.org
SUMMARY:Algebra Camp
DESCRIPTION:
URL:https://www.semagnet.org/calendar-item/algebra-camp-2/
END:VEVENT
BEGIN:VEVENT
DTSTART;VALUE=DATE:20190603
DTEND;VALUE=DATE:20190608
DTSTAMP:20260424T032406
CREATED:20190301T191913Z
LAST-MODIFIED:20190301T191913Z
UID:4098-1559520000-1559951999@www.semagnet.org
SUMMARY:Summer PE
DESCRIPTION:
URL:https://www.semagnet.org/calendar-item/summer-pe/
END:VEVENT
BEGIN:VEVENT
DTSTART;VALUE=DATE:20190603
DTEND;VALUE=DATE:20190608
DTSTAMP:20260424T032406
CREATED:20180918T215755Z
LAST-MODIFIED:20180918T215755Z
UID:2839-1559520000-1559951999@www.semagnet.org
SUMMARY:Algebra Camp
DESCRIPTION:
URL:https://www.semagnet.org/calendar-item/algebra-camp/
END:VEVENT
BEGIN:VEVENT
DTSTART;VALUE=DATE:20190530
DTEND;VALUE=DATE:20190531
DTSTAMP:20260424T032406
CREATED:20180918T215824Z
LAST-MODIFIED:20180918T215824Z
UID:2920-1559174400-1559260799@www.semagnet.org
SUMMARY:Summer Break Begins!
DESCRIPTION:
URL:https://www.semagnet.org/calendar-item/summer-break-begins/
END:VEVENT
BEGIN:VEVENT
DTSTART;VALUE=DATE:20190529
DTEND;VALUE=DATE:20190530
DTSTAMP:20260424T032406
CREATED:20190301T191404Z
LAST-MODIFIED:20190301T191404Z
UID:4096-1559088000-1559174399@www.semagnet.org
SUMMARY:End of 6th Six Weeks
DESCRIPTION:
URL:https://www.semagnet.org/calendar-item/end-of-6th-six-weeks/
END:VEVENT
BEGIN:VEVENT
DTSTART;TZID=America/Chicago:20190528T190000
DTEND;TZID=America/Chicago:20190528T220000
DTSTAMP:20260424T032406
CREATED:20180918T215757Z
LAST-MODIFIED:20190511T004851Z
UID:2845-1559070000-1559080800@www.semagnet.org
SUMMARY:Class of 2019 Graduation
DESCRIPTION:Majestic Theater
URL:https://www.semagnet.org/calendar-item/class-of-2019-graduation/
END:VEVENT
BEGIN:VEVENT
DTSTART;VALUE=DATE:20190528
DTEND;VALUE=DATE:20190530
DTSTAMP:20260424T032406
CREATED:20190510T233042Z
LAST-MODIFIED:20190510T233042Z
UID:4407-1559001600-1559174399@www.semagnet.org
SUMMARY:Early Release Day
DESCRIPTION:Lunches distributed						1:15pm – 1:35pm\nBuses Leave							1:40pm
URL:https://www.semagnet.org/calendar-item/early-release-day-2/
END:VEVENT
BEGIN:VEVENT
DTSTART;VALUE=DATE:20190528
DTEND;VALUE=DATE:20190530
DTSTAMP:20260424T032406
CREATED:20180918T215755Z
LAST-MODIFIED:20180918T215755Z
UID:2837-1559001600-1559174399@www.semagnet.org
SUMMARY:ACP
DESCRIPTION:
URL:https://www.semagnet.org/calendar-item/acp-4/
END:VEVENT
BEGIN:VEVENT
DTSTART;VALUE=DATE:20190527
DTEND;VALUE=DATE:20190528
DTSTAMP:20260424T032406
CREATED:20180918T215807Z
LAST-MODIFIED:20181016T003030Z
UID:2876-1558915200-1559001599@www.semagnet.org
SUMMARY:Memorial Day - Student Holiday
DESCRIPTION:
URL:https://www.semagnet.org/calendar-item/no-school-memorial-day/
END:VEVENT
BEGIN:VEVENT
DTSTART;VALUE=DATE:20190524
DTEND;VALUE=DATE:20190525
DTSTAMP:20260424T032406
CREATED:20190510T232829Z
LAST-MODIFIED:20190510T232829Z
UID:4405-1558656000-1558742399@www.semagnet.org
SUMMARY:Early Release Day
DESCRIPTION:Lunches distributed						1:15pm – 1:35pm\nBuses Leave							1:40pm
URL:https://www.semagnet.org/calendar-item/early-release-day/
END:VEVENT
BEGIN:VEVENT
DTSTART;VALUE=DATE:20190523
DTEND;VALUE=DATE:20190525
DTSTAMP:20260424T032406
CREATED:20180918T215754Z
LAST-MODIFIED:20180918T215754Z
UID:2836-1558569600-1558742399@www.semagnet.org
SUMMARY:ACP
DESCRIPTION:
URL:https://www.semagnet.org/calendar-item/acp-3/
END:VEVENT
BEGIN:VEVENT
DTSTART;TZID=America/Chicago:20190517T080000
DTEND;TZID=America/Chicago:20190517T235500
DTSTAMP:20260424T032406
CREATED:20190511T014951Z
LAST-MODIFIED:20190511T014951Z
UID:4420-1558080000-1558137300@www.semagnet.org
SUMMARY:Senior Prom
DESCRIPTION:Sheraton Dallas\n400 N. Olive\nDallas\, Texas 75201 \n8pm – Midnight
URL:https://www.semagnet.org/calendar-item/senior-prom/
END:VEVENT
BEGIN:VEVENT
DTSTART;TZID=America/Chicago:20190513T160000
DTEND;TZID=America/Chicago:20190513T170000
DTSTAMP:20260424T032406
CREATED:20190511T005316Z
LAST-MODIFIED:20190511T005354Z
UID:4410-1557763200-1557766800@www.semagnet.org
SUMMARY:SEM 2018-2019 Yearbook Distribution
DESCRIPTION:If you purchased a yearbook\, pick it up after school in front of SEM office
URL:https://www.semagnet.org/calendar-item/sem-2018-2019-yearbook-distribution/
END:VEVENT
BEGIN:VEVENT
DTSTART;VALUE=DATE:20190513
DTEND;VALUE=DATE:20190518
DTSTAMP:20260424T032406
CREATED:20180918T215757Z
LAST-MODIFIED:20190318T225650Z
UID:2843-1557705600-1558137599@www.semagnet.org
SUMMARY:AP Testing
DESCRIPTION:
URL:https://www.semagnet.org/calendar-item/ap-testing-2/
END:VEVENT
BEGIN:VEVENT
DTSTART;VALUE=DATE:20190510
DTEND;VALUE=DATE:20190511
DTSTAMP:20260424T032406
CREATED:20190511T011010Z
LAST-MODIFIED:20190511T011010Z
UID:4418-1557446400-1557532799@www.semagnet.org
SUMMARY:Awards Ceremony **New Date**
DESCRIPTION:
URL:https://www.semagnet.org/calendar-item/awards-ceremony-new-date/
END:VEVENT
BEGIN:VEVENT
DTSTART;VALUE=DATE:20190506
DTEND;VALUE=DATE:20190511
DTSTAMP:20260424T032406
CREATED:20190318T225133Z
LAST-MODIFIED:20190318T225133Z
UID:4307-1557100800-1557532799@www.semagnet.org
SUMMARY:STAAR (EOC) Biology and US History
DESCRIPTION:
URL:https://www.semagnet.org/calendar-item/staar-eoc-biology-and-us-history/
END:VEVENT
BEGIN:VEVENT
DTSTART;VALUE=DATE:20190506
DTEND;VALUE=DATE:20190511
DTSTAMP:20260424T032406
CREATED:20180918T215757Z
LAST-MODIFIED:20190318T225604Z
UID:2842-1557100800-1557532799@www.semagnet.org
SUMMARY:AP Testing
DESCRIPTION:
URL:https://www.semagnet.org/calendar-item/ap-testing/
END:VEVENT
END:VCALENDAR