BEGIN:VCALENDAR
VERSION:2.0
PRODID:-//The Science and Engineering Magnet - ECPv6.15.20//NONSGML v1.0//EN
CALSCALE:GREGORIAN
METHOD:PUBLISH
X-WR-CALNAME:The Science and Engineering Magnet
X-ORIGINAL-URL:https://www.semagnet.org
X-WR-CALDESC:Events for The Science and Engineering Magnet
REFRESH-INTERVAL;VALUE=DURATION:PT1H
X-Robots-Tag:noindex
X-PUBLISHED-TTL:PT1H
BEGIN:VTIMEZONE
TZID:America/Chicago
BEGIN:DAYLIGHT
TZOFFSETFROM:-0600
TZOFFSETTO:-0500
TZNAME:CDT
DTSTART:20190310T080000
END:DAYLIGHT
BEGIN:STANDARD
TZOFFSETFROM:-0500
TZOFFSETTO:-0600
TZNAME:CST
DTSTART:20191103T070000
END:STANDARD
BEGIN:DAYLIGHT
TZOFFSETFROM:-0600
TZOFFSETTO:-0500
TZNAME:CDT
DTSTART:20200308T080000
END:DAYLIGHT
BEGIN:STANDARD
TZOFFSETFROM:-0500
TZOFFSETTO:-0600
TZNAME:CST
DTSTART:20201101T070000
END:STANDARD
BEGIN:DAYLIGHT
TZOFFSETFROM:-0600
TZOFFSETTO:-0500
TZNAME:CDT
DTSTART:20210314T080000
END:DAYLIGHT
BEGIN:STANDARD
TZOFFSETFROM:-0500
TZOFFSETTO:-0600
TZNAME:CST
DTSTART:20211107T070000
END:STANDARD
END:VTIMEZONE
BEGIN:VEVENT
DTSTART;VALUE=DATE:20200528
DTEND;VALUE=DATE:20200529
DTSTAMP:20260421T074621
CREATED:20190923T175647Z
LAST-MODIFIED:20190923T175647Z
UID:4768-1590624000-1590710399@www.semagnet.org
SUMMARY:Student holidays/staff development - Día de capacitación para maestros/Día feriado para estudiantes
DESCRIPTION:
URL:https://www.semagnet.org/calendar-item/student-holidays-staff-development-dia-de-capacitacion-para-maestros-dia-feriado-para-estudiantes-4/
END:VEVENT
BEGIN:VEVENT
DTSTART;VALUE=DATE:20200527
DTEND;VALUE=DATE:20200528
DTSTAMP:20260421T074621
CREATED:20190923T175646Z
LAST-MODIFIED:20190923T175646Z
UID:4767-1590537600-1590623999@www.semagnet.org
SUMMARY:Sixth six weeks ends/Sexto seis semanas termina
DESCRIPTION:Final report cards wil be sent home with elementary school students on May 27.Final report cards will be mailed to secondary school students.Se enviará a casa la última boleta de calificaciones de primaria el 27 de mayoSe enviará a casa la última boleta de calificaciones de secundaria/preparatoria.
URL:https://www.semagnet.org/calendar-item/sixth-six-weeks-ends-sexto-seis-semanas-termina/
END:VEVENT
BEGIN:VEVENT
DTSTART;VALUE=DATE:20200526
DTEND;VALUE=DATE:20200528
DTSTAMP:20260421T074621
CREATED:20200313T231923Z
LAST-MODIFIED:20200313T231923Z
UID:5652-1590451200-1590623999@www.semagnet.org
SUMMARY:ACPs
DESCRIPTION:
URL:https://www.semagnet.org/calendar-item/acps-2/
END:VEVENT
BEGIN:VEVENT
DTSTART;VALUE=DATE:20200525
DTEND;VALUE=DATE:20200526
DTSTAMP:20260421T074621
CREATED:20190923T175646Z
LAST-MODIFIED:20190923T175646Z
UID:4766-1590364800-1590451199@www.semagnet.org
SUMMARY:Memorial Day
DESCRIPTION:All district schools and offices closed
URL:https://www.semagnet.org/calendar-item/memorial-day/
END:VEVENT
BEGIN:VEVENT
DTSTART;VALUE=DATE:20200521
DTEND;VALUE=DATE:20200523
DTSTAMP:20260421T074621
CREATED:20200313T231850Z
LAST-MODIFIED:20200313T231850Z
UID:5650-1590019200-1590191999@www.semagnet.org
SUMMARY:ACPs
DESCRIPTION:
URL:https://www.semagnet.org/calendar-item/acps/
END:VEVENT
BEGIN:VEVENT
DTSTART;VALUE=DATE:20200520
DTEND;VALUE=DATE:20200521
DTSTAMP:20260421T074621
CREATED:20200313T233421Z
LAST-MODIFIED:20200313T233421Z
UID:5679-1589932800-1590019199@www.semagnet.org
SUMMARY:Seniors Last Day of School
DESCRIPTION:
URL:https://www.semagnet.org/calendar-item/seniors-last-day-of-school/
END:VEVENT
BEGIN:VEVENT
DTSTART;VALUE=DATE:20200518
DTEND;VALUE=DATE:20200523
DTSTAMP:20260421T074621
CREATED:20191213T231647Z
LAST-MODIFIED:20200313T224430Z
UID:5411-1589760000-1590191999@www.semagnet.org
SUMMARY:Senior Week
DESCRIPTION:Monday\, May 18 through Friday\, May 22\, 2020\n\n\n\n\n\nClick link below for more info.
URL:https://www.semagnet.org/calendar-item/senior-week/
END:VEVENT
BEGIN:VEVENT
DTSTART;TZID=America/Chicago:20200515T200000
DTEND;TZID=America/Chicago:20200515T235900
DTSTAMP:20260421T074621
CREATED:20191213T231601Z
LAST-MODIFIED:20200313T220907Z
UID:5409-1589572800-1589587140@www.semagnet.org
SUMMARY:PROM
DESCRIPTION:PROM in the evening! \n8PM
URL:https://www.semagnet.org/calendar-item/prom/
END:VEVENT
BEGIN:VEVENT
DTSTART;VALUE=DATE:20200515
DTEND;VALUE=DATE:20200516
DTSTAMP:20260421T074621
CREATED:20200313T210217Z
LAST-MODIFIED:20200313T210217Z
UID:5601-1589500800-1589587199@www.semagnet.org
SUMMARY:National College Signing Day & Field Day
DESCRIPTION:Special note:\nNational College Signing Day is Friday\, May 1\, 2020. However\, this year\, Friday\, May 1st is also a district-wide inclement weather makeup day. This means we will likely not be at school. That is why we have an RSVP for Wednesday. We cannot do it after May 1 due to AP exams. \nApril 29th: 11th and 12th grade only \nDue to space limitations 9th and 10th grade will have similar event on Friday\, May 15th
URL:https://www.semagnet.org/calendar-item/national-college-signing-day-field-day-2/
END:VEVENT
BEGIN:VEVENT
DTSTART;TZID=America/Chicago:20200512T080000
DTEND;TZID=America/Chicago:20200512T091500
DTSTAMP:20260421T074621
CREATED:20190924T030601Z
LAST-MODIFIED:20190924T031605Z
UID:4836-1589270400-1589274900@www.semagnet.org
SUMMARY:Morning Mixer
DESCRIPTION:For more information or to volunteer\, please visit: https://www.signupgenius.com/go/70A0849A9A72AA4FD0-may12morning   (Library) Yvonne A. Ewell Townview Center\, 1201 E 8th St\, Dallas\, TX 75203\, USA
URL:https://www.semagnet.org/calendar-item/morning-mixer-7/
END:VEVENT
BEGIN:VEVENT
DTSTART;VALUE=DATE:20200511
DTEND;VALUE=DATE:20200516
DTSTAMP:20260421T074621
CREATED:20200313T220737Z
LAST-MODIFIED:20200313T222123Z
UID:5631-1589155200-1589587199@www.semagnet.org
SUMMARY:AP Exam Schedule
DESCRIPTION:(A day) Monday\, May 11\, 2020\n\n\n\n\n\nMorning 8 a.m. \n\nBiology\n\nAfternoon 12 noon \n\nChinese Language and Culture\nEnvironmental Science\n\nAfternoon 2 p.m. \n\nnone\n\n\n\n\n\n\n\n\n(B day) Tuesday\, May 12\, 2020\n\nMorning 8 a.m. \n\nSeminar\nSpanish Language and Culture\n\nAfternoon 12 noon \n\nLatin\nPsychology\n\nAfternoon 2 p.m. \n\nnone\n\n\n\n\n\n\n\n\n(A day) Wednesday\, May 13\, 2020\n\nMorning 8 a.m. \n\nEnglish Language and Composition\n\nAfternoon 12 noon \n\nMicroeconomics\nMusic Theory\n\nAfternoon 2 p.m. \n\nnone\n\n\n\n\n\n\n\n\n(B day) Thursday\, May 14\, 2020\n\nMorning 8 a.m. \n\nComparative Government and Politics\nWorld History: Modern\n\nAfternoon 12 noon \n\nItalian Language and Culture\nMacroeconomics\n\nAfternoon 2 p.m. \n\nnone\n\n\n\n\n\n\n\n\n(A day) Friday\, May 15\, 2020\n\nMorning 8 a.m. \n\nComputer Science Principles\nFrench Language and Culture\n\nAfternoon 12 noon \n\nStatistics\n\nAfternoon 2 p.m. \n\nnone
URL:https://www.semagnet.org/calendar-item/ap-exam-schedule-2/
END:VEVENT
BEGIN:VEVENT
DTSTART;VALUE=DATE:20200511
DTEND;VALUE=DATE:20200514
DTSTAMP:20260421T074621
CREATED:20200313T215458Z
LAST-MODIFIED:20200313T215458Z
UID:5626-1589155200-1589414399@www.semagnet.org
SUMMARY:Senior Exams
DESCRIPTION:
URL:https://www.semagnet.org/calendar-item/senior-exams/
END:VEVENT
BEGIN:VEVENT
DTSTART;TZID=America/Chicago:20200506T183000
DTEND;TZID=America/Chicago:20200506T193000
DTSTAMP:20260421T074621
CREATED:20190924T030600Z
LAST-MODIFIED:20190924T030600Z
UID:4835-1588789800-1588793400@www.semagnet.org
SUMMARY:SEM PTSA Board Meeting
DESCRIPTION:(Rm 211) Yvonne A. Ewell Townview Center\, 1201 E 8th St\, Dallas\, TX 75203\, USA
URL:https://www.semagnet.org/calendar-item/sem-ptsa-board-meeting-10/
END:VEVENT
BEGIN:VEVENT
DTSTART;VALUE=DATE:20200504
DTEND;VALUE=DATE:20200509
DTSTAMP:20260421T074621
CREATED:20200313T220447Z
LAST-MODIFIED:20200313T222235Z
UID:5628-1588550400-1588982399@www.semagnet.org
SUMMARY:AP Exam Schedule
DESCRIPTION:(B day) Monday\, May 4\, 2020\n\nMorning 8 a.m. \n\nUnited States Government and Politics\n\nAfternoon 12 noon \n\nPhysics C: Mechanics\n\nAfternoon 2 p.m. \n\nPhysics C: Electricity and Magnetism\n\n\n\n\n\n\n\n\n(A day) Tuesday\, May 5\, 2020\n\nMorning 8 a.m. \n\nCalculus AB\nCalculus BC\n\nAfternoon 12 noon \n\nGerman Language and Culture\nHuman Geography\n\nAfternoon 2 p.m. \n\nnone\n\n\n\n\n\n\n\n\n(B day) Wednesday\, May 6\, 2020\n\nMorning 8 a.m. \n\nEnglish Literature and Composition\n\nAfternoon 12 noon \n\nEuropean History\nPhysics 2: Algebra-Based\n\nAfternoon 2 p.m. \n\nnone\n\n\n\n\n\n\n\n\n(A day) Thursday\, May 7\, 2020\n\nMorning 8 a.m. \n\nChemistry\nSpanish Literature and Culture\n\nAfternoon 12 noon \n\nJapanese Language and Culture\nPhysics 1: Algebra-Based\n\nAfternoon 2 p.m. \n\nnone\n\n\n\n\n\n\n\n\n(B day) Friday\, May 8\, 2020\n\nMorning 8 a.m. \n\nUnited States History\n\nAfternoon 12 noon \n\nArt History\nComputer Science A\n\nAfternoon 2 p.m. \n\nnone
URL:https://www.semagnet.org/calendar-item/ap-exam-schedule/
END:VEVENT
BEGIN:VEVENT
DTSTART;VALUE=DATE:20200501
DTEND;VALUE=DATE:20200502
DTSTAMP:20260421T074621
CREATED:20190923T175641Z
LAST-MODIFIED:20190923T175641Z
UID:4750-1588291200-1588377599@www.semagnet.org
SUMMARY:Inclement weather makeup day/Día para reponer tiempo perdido por mal clima
DESCRIPTION:April 13 and May 1 are the designated makeup days for days when school is closed due to bad weather. If not needed\, both days will be used as a student/teacher holidays.El 13 de abril y 1 de mayo son los días que se han designado para reponer días de clases que se pierdan debido al mal tiempo. De no ser utilizados\, estos serán días feriados para estudiantes y maestros.
URL:https://www.semagnet.org/calendar-item/inclement-weather-makeup-day-dia-para-reponer-tiempo-perdido-por-mal-clima-2/
END:VEVENT
BEGIN:VEVENT
DTSTART;VALUE=DATE:20200429
DTEND;VALUE=DATE:20200430
DTSTAMP:20260421T074621
CREATED:20191211T201013Z
LAST-MODIFIED:20200313T210016Z
UID:5369-1588118400-1588204799@www.semagnet.org
SUMMARY:National College Signing Day & Field Day
DESCRIPTION:Special note:\nNational College Signing Day is Friday\, May 1\, 2020. However\, this year\, Friday\, May 1st is also a district-wide inclement weather makeup day. This means we will likely not be at school. That is why we have an RSVP for Wednesday. We cannot do it after May 1 due to AP exams. \nApril 29th: 11th and 12th grade only \nDue to space limitations 9th and 10th grade will have similar event on Friday\, May 15th
URL:https://www.semagnet.org/calendar-item/national-college-signing-day-field-day/
END:VEVENT
BEGIN:VEVENT
DTSTART;VALUE=DATE:20200427
DTEND;VALUE=DATE:20200502
DTSTAMP:20260421T074621
CREATED:20190924T030031Z
LAST-MODIFIED:20191213T231422Z
UID:4805-1587945600-1588377599@www.semagnet.org
SUMMARY:Teacher Appreciation Week
DESCRIPTION:Details TBD – volunteers and donations needed
URL:https://www.semagnet.org/calendar-item/teacher-appreciation-week/
END:VEVENT
BEGIN:VEVENT
DTSTART;VALUE=DATE:20200422
DTEND;VALUE=DATE:20200423
DTSTAMP:20260421T074621
CREATED:20190923T175641Z
LAST-MODIFIED:20190923T175641Z
UID:4749-1587513600-1587599999@www.semagnet.org
SUMMARY:Report cards issued/Distribución de boletas de calificaciones
DESCRIPTION:
URL:https://www.semagnet.org/calendar-item/report-cards-issued-distribucion-de-boletas-de-calificaciones-3/
END:VEVENT
BEGIN:VEVENT
DTSTART;TZID=America/Chicago:20200421T180000
DTEND;TZID=America/Chicago:20200421T190000
DTSTAMP:20260421T074621
CREATED:20190924T030600Z
LAST-MODIFIED:20200313T232840Z
UID:4834-1587492000-1587495600@www.semagnet.org
SUMMARY:PTSA General Meeting and Board Elections
DESCRIPTION:Townview Auditorium
URL:https://www.semagnet.org/calendar-item/ptsa-general-meeting-and-board-elections/
END:VEVENT
BEGIN:VEVENT
DTSTART;VALUE=DATE:20200420
DTEND;VALUE=DATE:20200424
DTSTAMP:20260421T074621
CREATED:20191213T231231Z
LAST-MODIFIED:20191213T231751Z
UID:5404-1587340800-1587686399@www.semagnet.org
SUMMARY:AP Seminar Presentations
DESCRIPTION:MPORTANT: AP Seminar Presentations\, Monday to Thursday\, 10th graders will be pulled for 10 minute segments with Tangman/Foster in room 211.
URL:https://www.semagnet.org/calendar-item/5404/
END:VEVENT
BEGIN:VEVENT
DTSTART;VALUE=DATE:20200414
DTEND;VALUE=DATE:20200415
DTSTAMP:20260421T074621
CREATED:20190923T175639Z
LAST-MODIFIED:20190923T175639Z
UID:4744-1586822400-1586908799@www.semagnet.org
SUMMARY:Sixth six weeks begins/Sexto seis semanas comienza
DESCRIPTION:
URL:https://www.semagnet.org/calendar-item/sixth-six-weeks-begins-sexto-seis-semanas-comienza/
END:VEVENT
BEGIN:VEVENT
DTSTART;VALUE=DATE:20200413
DTEND;VALUE=DATE:20200414
DTSTAMP:20260421T074621
CREATED:20190923T175639Z
LAST-MODIFIED:20190923T175639Z
UID:4743-1586736000-1586822399@www.semagnet.org
SUMMARY:Inclement weather makeup day/Día para reponer tiempo perdido por mal clima
DESCRIPTION:April 13 and May 1 are the designated makeup days for days when school is closed due to bad weather. If not needed\, both days will be used as a student/teacher holidays.El 13 de abril y 1 de mayo son los días que se han designado para reponer días de clases que se pierdan debido al mal tiempo. De no ser utilizados\, estos serán días feriados para estudiantes y maestros.
URL:https://www.semagnet.org/calendar-item/inclement-weather-makeup-day-dia-para-reponer-tiempo-perdido-por-mal-clima/
END:VEVENT
BEGIN:VEVENT
DTSTART;VALUE=DATE:20200410
DTEND;VALUE=DATE:20200411
DTSTAMP:20260421T074621
CREATED:20190923T175639Z
LAST-MODIFIED:20190923T175639Z
UID:4742-1586476800-1586563199@www.semagnet.org
SUMMARY:Staff/Student Holiday
DESCRIPTION:All district schools and offices closed
URL:https://www.semagnet.org/calendar-item/staff-student-holiday/
END:VEVENT
BEGIN:VEVENT
DTSTART;VALUE=DATE:20200409
DTEND;VALUE=DATE:20200410
DTSTAMP:20260421T074621
CREATED:20190923T175638Z
LAST-MODIFIED:20190923T175638Z
UID:4740-1586390400-1586476799@www.semagnet.org
SUMMARY:Fifth six weeks ends/Quinto seis semanas termina
DESCRIPTION:
URL:https://www.semagnet.org/calendar-item/fifth-six-weeks-ends-quinto-seis-semanas-termina/
END:VEVENT
BEGIN:VEVENT
DTSTART;TZID=America/Chicago:20200408T183000
DTEND;TZID=America/Chicago:20200408T193000
DTSTAMP:20260421T074621
CREATED:20190924T030600Z
LAST-MODIFIED:20190924T030600Z
UID:4833-1586370600-1586374200@www.semagnet.org
SUMMARY:SEM PTSA Board Meeting
DESCRIPTION:(Rm 211) Yvonne A. Ewell Townview Center\, 1201 E 8th St\, Dallas\, TX 75203\, USA
URL:https://www.semagnet.org/calendar-item/sem-ptsa-board-meeting-9/
END:VEVENT
BEGIN:VEVENT
DTSTART;VALUE=DATE:20200408
DTEND;VALUE=DATE:20200409
DTSTAMP:20260421T074621
CREATED:20200313T212733Z
LAST-MODIFIED:20200313T212733Z
UID:5622-1586304000-1586390399@www.semagnet.org
SUMMARY:ENGLISH II EOC Exam
DESCRIPTION:
URL:https://www.semagnet.org/calendar-item/english-ii-eoc-exam/
END:VEVENT
BEGIN:VEVENT
DTSTART;VALUE=DATE:20200408
DTEND;VALUE=DATE:20200409
DTSTAMP:20260421T074621
CREATED:20191211T200908Z
LAST-MODIFIED:20191211T200908Z
UID:5367-1586304000-1586390399@www.semagnet.org
SUMMARY:9th grade parent mandatory spring meeting
DESCRIPTION:
URL:https://www.semagnet.org/calendar-item/9th-grade-parent-mandatory-spring-meeting/
END:VEVENT
BEGIN:VEVENT
DTSTART;VALUE=DATE:20200406
DTEND;VALUE=DATE:20200407
DTSTAMP:20260421T074621
CREATED:20191211T200852Z
LAST-MODIFIED:20200313T212234Z
UID:5365-1586131200-1586217599@www.semagnet.org
SUMMARY:10th Grade Parent Mandatory Meeting
DESCRIPTION:10th grade parent mandatory spring meeting
URL:https://www.semagnet.org/calendar-item/10th-11th-grade-parent-mandatory-spring-meeting/
END:VEVENT
BEGIN:VEVENT
DTSTART;VALUE=DATE:20200401
DTEND;VALUE=DATE:20200402
DTSTAMP:20260421T074621
CREATED:20191211T200831Z
LAST-MODIFIED:20200313T212545Z
UID:5363-1585699200-1585785599@www.semagnet.org
SUMMARY:12th Grade Parent Mandatory Meeting
DESCRIPTION:12th grade parent mandatory spring meeting
URL:https://www.semagnet.org/calendar-item/12th-grade-parent-mandatory-spring-meeting/
END:VEVENT
BEGIN:VEVENT
DTSTART;VALUE=DATE:20200330
DTEND;VALUE=DATE:20200401
DTSTAMP:20260421T074621
CREATED:20200313T212114Z
LAST-MODIFIED:20200313T212114Z
UID:5618-1585526400-1585699199@www.semagnet.org
SUMMARY:Student Council and SEM Clubs
DESCRIPTION:Student Council & all SEM clubs Election Days
URL:https://www.semagnet.org/calendar-item/student-council-and-sem-clubs/
END:VEVENT
END:VCALENDAR